BEGIN:VCALENDAR
VERSION:2.0
PRODID:-//Theme Park Chatter - ECPv6.15.20//NONSGML v1.0//EN
CALSCALE:GREGORIAN
METHOD:PUBLISH
X-WR-CALNAME:Theme Park Chatter
X-ORIGINAL-URL:https://themeparkchatter.com
X-WR-CALDESC:Events for Theme Park Chatter
REFRESH-INTERVAL;VALUE=DURATION:PT1H
X-Robots-Tag:noindex
X-PUBLISHED-TTL:PT1H
BEGIN:VTIMEZONE
TZID:America/Los_Angeles
BEGIN:DAYLIGHT
TZOFFSETFROM:-0800
TZOFFSETTO:-0700
TZNAME:PDT
DTSTART:20240310T100000
END:DAYLIGHT
BEGIN:STANDARD
TZOFFSETFROM:-0700
TZOFFSETTO:-0800
TZNAME:PST
DTSTART:20241103T090000
END:STANDARD
BEGIN:DAYLIGHT
TZOFFSETFROM:-0800
TZOFFSETTO:-0700
TZNAME:PDT
DTSTART:20250309T100000
END:DAYLIGHT
BEGIN:STANDARD
TZOFFSETFROM:-0700
TZOFFSETTO:-0800
TZNAME:PST
DTSTART:20251102T090000
END:STANDARD
BEGIN:DAYLIGHT
TZOFFSETFROM:-0800
TZOFFSETTO:-0700
TZNAME:PDT
DTSTART:20260308T100000
END:DAYLIGHT
BEGIN:STANDARD
TZOFFSETFROM:-0700
TZOFFSETTO:-0800
TZNAME:PST
DTSTART:20261101T090000
END:STANDARD
END:VTIMEZONE
BEGIN:VTIMEZONE
TZID:UTC
BEGIN:STANDARD
TZOFFSETFROM:+0000
TZOFFSETTO:+0000
TZNAME:UTC
DTSTART:20240101T000000
END:STANDARD
END:VTIMEZONE
BEGIN:VEVENT
DTSTART;TZID=America/Los_Angeles:20250829T080000
DTEND;TZID=America/Los_Angeles:20250831T170000
DTSTAMP:20260425T151630
CREATED:20250401T150000Z
LAST-MODIFIED:20250514T135625Z
UID:10000296-1756454400-1756659600@themeparkchatter.com
SUMMARY:Destination D23 Presented by Lug 2025
DESCRIPTION:Dive into Disney Magic at Destination D23: A Journey Around the Worlds of Disney! 🌎✨ \n\n\n\nCalling all D23 Gold Members! While tickets are officially SOLD OUT\, we’re still buzzing with excitement for Destination D23: A Journey Around the Worlds of Disney – Presented by Lug\, taking place from August 29th to 31st\, 2025 at Disney’s Coronado Springs Resort in Orlando\, FL! \n\n\n\nThis premier fan event promises an immersive journey through all the beloved worlds of Disney. Attendees are in for a treat with behind-the-scenes stories\, special guest appearances\, and unforgettable performances spanning Disney’s rich history and exciting future. \n\n\n\nGet ready for two days packed with fascinating presentations from Disney archivists\, historians\, Imagineers\, cast members\, filmmakers\, Disney Legends\, and more! The schedule is brimming with panels celebrating iconic theme park attractions\, cruise line experiences\, and sneak peeks at upcoming projects from The Walt Disney Studios. \n\n\n\nAdding to the magic\, the Walt Disney Archives will take attendees on a global adventure\, highlighting Disney’s connections to locales around the world\, including a special 80th-anniversary celebration of The Three Caballeros. Prepare to uncover “Disney you didn’t know” with astonishing discoveries and little-known facts! \n\n\n\nThe excitement continues with exclusive experiences\, including: \n\n\n\n\nD23 Kuzcotopia Night at Typhoon Lagoon (Saturday\, August 30th): All Destination D23 ticket holders are invited to an after-hours celebration of The Emperor’s New Groove‘s 25th anniversary at Typhoon Lagoon! Expect special tributes to Disney’s water parks\, complimentary snacks\, photo ops\, activities\, and exclusive entertainment.\n\n\n\nDisney ’80s-’90s Celebration in Concert\, presented by Disney+: Capping off the weekend\, this ultimate throwback concert will feature Broadway and Disney Animation stars performing hits from iconic films and TV shows of these fan-favorite decades.\n\n\n\nThe Walt Disney Archives Presents: Charting the Course\, Disney’s Global Stories & Inspirations: An all-new exhibit showcasing how global inspiration sparks Disney creativity through photography\, artwork\, and artifacts.\n\n\n\nD23 Shopping Spree: Attendees will have the chance to shop exclusive merchandise from The Walt Disney Company Store\, Mickey’s of Glendale\, Disney Studio Store Hollywood\, and the Ink & Paint Marketplace.\n\n\n\n\nWhile the main event is sold out\, keep an eye out for potential opportunities! A limited number of additional tickets for D23 Kuzcotopia Night at Typhoon Lagoon and the D23 Shopping Spree may be offered to D23 Gold Members at a later date. Additionally\, other D23 Member experiences are planned for the week of the event. \n\n\n\nPresented by Lug\, this year’s Destination D23 is set to be the biggest yet\, offering a truly unique and unforgettable experience for Disney’s most dedicated fans!
URL:https://themeparkchatter.com/event/destination-d23-presented-by-lug-2025/
LOCATION:Walt Disney World\, 1375 East Buena Vista Drive\, Lake Buena Vista\, FL\, 32821\, United States
CATEGORIES:Florida
ATTACH;FMTTYPE=image/png:https://themeparkchatter.com/wp-content/uploads/2025/05/Destionation-D23-By-Lug-2025.png
END:VEVENT
BEGIN:VEVENT
DTSTART;TZID=America/Los_Angeles:20250830T100000
DTEND;TZID=America/Los_Angeles:20250831T170000
DTSTAMP:20260425T151630
CREATED:20250508T180342Z
LAST-MODIFIED:20250514T135624Z
UID:10000295-1756548000-1756659600@themeparkchatter.com
SUMMARY:Destination D23 Shopping Spree 2025
DESCRIPTION:Get ready to shop ’til you drop\, D23 Gold Members! Even if you aren’t attending the full Destination D23 event\, you have a special opportunity to indulge in an exclusive D23 Shopping Spree at Disney’s Coronado Springs Resort in Orlando\, Florida\, on August 30th and 31st\, 2025!   \n\n\n\nThis separately ticketed event grants you access to four incredible pop-up shopping locations\, offering a treasure trove of apparel\, collectibles\, and must-grab merchandise you won’t find anywhere else. It’s the perfect chance to snag those exclusive items you’ve been dreaming of!   \n\n\n\nHere’s a peek at the magical shopping experiences awaiting you: \n\n\n\n\nMickey’s of Glendale: Returns with its highly sought-after Walt Disney Imagineering and Disney Parks attraction-inspired merchandise.  \n\n\n\nInk and Paint Marketplace: Featuring a curated assortment from fan-favorite brands and friends of Disney\, including the stylish Lug!  \n\n\n\nThe Walt Disney Company Store: Showcasing merchandise from well-known collections\, including The Walt Disney Company and Walt Disney Studios lines\, as well as official 2025 Destination D23 event merchandise and other D23 Member-exclusives from brands like RSVLTS\, Spirit Jersey\, and Loungefly.  \n\n\n\nDisney Studio Store Hollywood: Making its Florida debut with new apparel\, accessories\, drinkware\, and open edition pins for fans of all ages!\n\n\n\n\nImportant Details for D23 Gold Members (Not Attending Destination D23): \n\n\n\n\nDates: August 30th and 31st\, 2025  \n\n\n\nLocation: Disney’s Coronado Springs Resort\, Orlando\, FL\n\n\n\nTicket Price: $15 (+$3 Processing Fee + 6.5% sales tax) per ticket.  \n\n\n\nTicket On-Sale Date: Wednesday\, May 14th at 10 a.m. PT / 1 p.m. ET via the provided link.  \n\n\n\nLimit: One (1) ticket per D23 Gold Member. Guests are not permitted.\n\n\n\nIncluded with Ticket: Access to all four shopping locations during your designated time window\, a D23 Shopping Spree tote bag\, and a D23-exclusive collectible patch.  \n\n\n\n\nImportant Note: This ticket only grants access to the shopping experience and does not include entry to any Destination D23 presentations\, experiences\, or limited-edition merchandise pre-sale opportunities. \n\n\n\nIf you’re a D23 Gold Member looking to expand your Disney collection\, don’t miss out on this fantastic shopping opportunity!
URL:https://themeparkchatter.com/event/destination-d23-shopping-spree-2025/
LOCATION:Walt Disney World\, 1375 East Buena Vista Drive\, Lake Buena Vista\, FL\, 32821\, United States
CATEGORIES:Florida
ATTACH;FMTTYPE=image/png:https://themeparkchatter.com/wp-content/uploads/2025/05/D23-Shopping-Spree-Destination-D23-2025.png
END:VEVENT
BEGIN:VEVENT
DTSTART;TZID=America/Los_Angeles:20250830T200000
DTEND;TZID=America/Los_Angeles:20250830T230000
DTSTAMP:20260425T151630
CREATED:20250508T175614Z
LAST-MODIFIED:20250514T135623Z
UID:10000292-1756584000-1756594800@themeparkchatter.com
SUMMARY:Destination D23 Kuzcotopia Night at Typhoon Lagoon
DESCRIPTION:Get Ready to Groove! D23 Kuzcotopia Night Coming to Typhoon Lagoon! 🎶🌊 \n\n\n\nCalling all D23 Gold Members and Emperor’s New Groove fans! Get ready for a royally fun night! D23 is throwing a special Kuzcotopia Night at Disney’s Typhoon Lagoon on August 30th\, 2025\, from 8:00 p.m. to 11:00 p.m. ET as part of the Destination D23 weekend. \n\n\n\nEven if you aren’t attending Destination D23\, D23 Gold Members have a separate chance to join this exclusive after-hours party celebrating the 25th anniversary of the beloved film. Expect “splashy special surprises\,” music to groove to\, and a special tribute to Disney’s water parks through the years! Plus\, you’ll get after-hours access to awesome Typhoon Lagoon attractions like Humunga Kowabunga and Castaway Creek. Don’t miss the event-exclusive Exotic Bird Bingo for any Junior Chipmunks at heart! \n\n\n\nTickets are priced at $99 (plus processing fee and sales tax) and are limited to one (1) ticket for the Gold Member and one (1) guest. \n\n\n\nIncluded in your ticket: \n\n\n\n\nAdmission to the D23-exclusive after-hours event at Disney’s Typhoon Lagoon\n\n\n\nIce cream novelties\, popcorn\, and select soft drinks at select locations\n\n\n\nAfter-hours access to numerous Typhoon Lagoon attractions\n\n\n\nEvent-exclusive programming\, including photo ops\, special entertainment\, character experiences\, and Exotic Bird Bingo\n\n\n\nEvent-exclusive gift\n\n\n\nOpportunity to purchase event-exclusive themed food and drinks\n\n\n\n\nDon’t miss your chance to snag tickets for what promises to be a totally tubular night filled with Emperor’s New Groove fun!
URL:https://themeparkchatter.com/event/d23-kuzcotopia-night-at-typhoon-lagoon-destination-d23/
LOCATION:Walt Disney World\, 1375 East Buena Vista Drive\, Lake Buena Vista\, FL\, 32821\, United States
CATEGORIES:Florida
ATTACH;FMTTYPE=image/png:https://themeparkchatter.com/wp-content/uploads/2025/05/Destination-D23-Kuzcotopia-2025-Banner.png
END:VEVENT
BEGIN:VEVENT
DTSTART;TZID=America/Los_Angeles:20251115T000000
DTEND;TZID=America/Los_Angeles:20251116T235959
DTSTAMP:20260425T151630
CREATED:20250506T214714Z
LAST-MODIFIED:20250514T135623Z
UID:10000149-1763164800-1763337599@themeparkchatter.com
SUMMARY:Dapper Day - Fall 2025 - DLR
DESCRIPTION:Step back in time for Dapper Day Fall 2025 at the Disneyland Resort! \n\n\n\nJoin us for a weekend of vintage charm and Disney magic. Explore our Pop-Up Boutique at the Grand Californian Hotel on Saturday and Sunday\, November 15th and 16th\, filled with delightful finds.  \n\n\n\nThen\, dont your most dapper attire for our stylish Holiday Outing at Disneyland on Sunday\, November 16th
URL:https://themeparkchatter.com/event/dapper-day-fall-2025-dlr/
LOCATION:Disneyland Resort\, 1313 Disneyland Dr\, Anaheim\, CA\, 92802\, United States
CATEGORIES:California
ATTACH;FMTTYPE=image/png:https://themeparkchatter.com/wp-content/uploads/2025/05/Dapper-Day-Disneyland-Resort.png
END:VEVENT
BEGIN:VEVENT
DTSTART;TZID=UTC:20251225T000000
DTEND;TZID=UTC:20251225T235959
DTSTAMP:20260425T151630
CREATED:20200101T180000Z
LAST-MODIFIED:20250514T135911Z
UID:10000116-1766620800-1766707199@themeparkchatter.com
SUMMARY:Christmas Day – Celebrate at the Parks - DLR
DESCRIPTION:Christmas Day at Disneyland is a great idea: \n\n\n\n\nTotal Holiday Immersion: Disneyland is decked out in stunning Christmas decorations – think towering trees\, twinkling lights\, and festive cheer everywhere.\n\n\n\nMagical Castle Transformation: Sleeping Beauty’s Winter Castle is breathtaking with dazzling lights and actual snowfall during the lighting ceremony.\n\n\n\nHoliday-Themed Rides: Enjoy special seasonal overlays on classic attractions like Haunted Mansion Holiday and “it’s a small world” Holiday.\n\n\n\nFestive Parade Fun: Catch “A Christmas Fantasy” parade with beloved characters in holiday attire\, marching toys\, and Santa!\n\n\n\nSpectacular Holiday Fireworks: “Believe… in Holiday Magic” fireworks light up the night sky with festive music and often\, more magical snowfall.\n\n\n\nCharacter Holiday Greetings: See your favorite Disney pals dressed in their Christmas best for unique meet-and-greets.\n\n\n\nDelicious Holiday Treats: Indulge in special seasonal foods and drinks available only during the holidays.\n\n\n\nResort-Wide Festivities: The holiday magic extends to the Disneyland Resort hotels and Downtown Disney with decorations and entertainment.\n\n\n\nUnforgettable Memories: Create a truly unique and joyful Christmas experience that you and your family will cherish.
URL:https://themeparkchatter.com/event/christmas-day-celebrate-at-the-parks-dlr/2025-12-25/
LOCATION:Disneyland Resort\, 1313 Disneyland Dr\, Anaheim\, CA\, 92802\, United States
CATEGORIES:California
ATTACH;FMTTYPE=image/png:https://themeparkchatter.com/wp-content/uploads/2020/01/dlr-disneyland-christmas-characters-outfits.png
END:VEVENT
BEGIN:VEVENT
DTSTART;TZID=UTC:20251225T000000
DTEND;TZID=UTC:20251225T235959
DTSTAMP:20260425T151630
CREATED:20220102T051700Z
LAST-MODIFIED:20250514T135622Z
UID:10000121-1766620800-1766707199@themeparkchatter.com
SUMMARY:Christmas Day – Celebrate at the Parks - WDW
DESCRIPTION:Christmas Day at Walt Disney World is a great idea: \n\n\n\n\nFour Parks of Festive Wonder: Each Walt Disney World theme park offers unique Christmas decorations and atmosphere\, from the classic Magic Kingdom to the global celebrations at EPCOT.\n\n\n\nIconic Holiday Decor: Cinderella Castle in Magic Kingdom is adorned with dazzling lights\, creating a breathtaking centerpiece for the holiday season.\n\n\n\nEPCOT’s International Festival of the Holidays: Experience holiday traditions from around the world with storytellers\, festive food and drink\, and the Candlelight Processional featuring celebrity narrators.\n\n\n\nHoliday Ride Overlays: Select attractions get a festive makeover\, like the Jingle Cruise in Magic Kingdom’s Adventureland.\n\n\n\nDisney’s Hollywood Studios Holiday Fun: Enjoy festive projections on the Tower of Terror and the Hollywood Tower Hotel\, holiday-themed shows\, and character greetings.\n\n\n\nDisney’s Animal Kingdom Holiday Cheer: Discover unique holiday decorations with an animal theme and festive entertainment throughout the park.\n\n\n\nResort Hotel Holiday Splendor: The Disney Resort hotels boast incredible holiday decorations\, including massive gingerbread displays and beautifully themed trees.\n\n\n\nHoliday Dining Experiences: Enjoy special holiday menus and dining events across the resort.\n\n\n\nA Truly Magical Christmas: Spending Christmas Day in the immersive and festive environment of Walt Disney World creates unforgettable holiday memories.\n\n\n\nMickey’s Very Merry Christmas Party (Select Nights): While requiring a separate ticket\, this event offers a special holiday parade (“Mickey’s Once Upon a Christmastime Parade”)\, fireworks (“Minnie’s Wonderful Christmastime Fireworks”)\, character meet-and-greets in holiday attire\, and “snowfall” on Main Street\, U.S.A. (Note: This is a ticketed event and may not be available on Christmas Day itself\, but the festive atmosphere carries over.)
URL:https://themeparkchatter.com/event/christmas-day-celebrate-at-the-parks-wdw/2025-12-25/
LOCATION:Walt Disney World\, 1375 East Buena Vista Drive\, Lake Buena Vista\, FL\, 32821\, United States
CATEGORIES:Florida
ATTACH;FMTTYPE=image/png:https://themeparkchatter.com/wp-content/uploads/2025/05/wdw-mickey-minnie-christmas-outfits-disney.png
END:VEVENT
BEGIN:VEVENT
DTSTART;TZID=UTC:20260504T000000
DTEND;TZID=UTC:20260504T235959
DTSTAMP:20260425T151630
CREATED:20200101T170000Z
LAST-MODIFIED:20250514T135812Z
UID:10000097-1777852800-1777939199@themeparkchatter.com
SUMMARY:May the 4th - Celebrate at the Parks - WDW
DESCRIPTION:Reminder to make a park reservation at Walt Disney World: Hollywood Studios to celebrate May the 4th. \n\n\n\n\n\nImmersive Star Wars Celebrations: Disneyland transforms into the ultimate Star Wars destination on May the 4th. While Star Wars is celebrated worldwide\, Disneyland offers a unique\, immersive experience you can’t find anywhere else. The park comes alive with: \n\nUnique Character Encounters: Meet rare and beloved Star Wars characters\, creating unforgettable memories.\nThemed Food and Drinks: Indulge in exclusive\, galactic treats and beverages that enhance the Star Wars experience.\nSpecial Merchandise: Discover limited-edition merchandise and collectibles\, perfect for any Star Wars fan.\nAtmosphere: Immerse yourself in the sights\, sounds\, and energy of a full-blown Star Wars celebration.\n\nIt’s the only place to fully experience Star Wars Day with this level of detail and excitement
URL:https://themeparkchatter.com/event/may-the-4th-celebrate-at-the-parks-2/2026-05-04/
LOCATION:Walt Disney World\, 1375 East Buena Vista Drive\, Lake Buena Vista\, FL\, 32821\, United States
CATEGORIES:Florida
ATTACH;FMTTYPE=image/png:https://themeparkchatter.com/wp-content/uploads/2025/05/wdw-may-fourth-celebrate.png
END:VEVENT
BEGIN:VEVENT
DTSTART;TZID=UTC:20260504T000000
DTEND;TZID=UTC:20260504T235959
DTSTAMP:20260425T151630
CREATED:20250101T170000Z
LAST-MODIFIED:20250514T135811Z
UID:10000093-1777852800-1777939199@themeparkchatter.com
SUMMARY:May the 4th - Celebrate at the Parks - DLR
DESCRIPTION:Reminder to make a park reservation at Disneyland to celebrate May the 4th. \n\n\n\n\n\nImmersive Star Wars Celebrations: Disneyland transforms into the ultimate Star Wars destination on May the 4th. While Star Wars is celebrated worldwide\, Disneyland offers a unique\, immersive experience you can’t find anywhere else. The park comes alive with: \n\nUnique Character Encounters: Meet rare and beloved Star Wars characters\, creating unforgettable memories.\nThemed Food and Drinks: Indulge in exclusive\, galactic treats and beverages that enhance the Star Wars experience.\nSpecial Merchandise: Discover limited-edition merchandise and collectibles\, perfect for any Star Wars fan.\nAtmosphere: Immerse yourself in the sights\, sounds\, and energy of a full-blown Star Wars celebration.\n\nIt’s the only place to fully experience Star Wars Day with this level of detail and excitement
URL:https://themeparkchatter.com/event/may-the-4th-celebrate-at-the-parks/2026-05-04/
LOCATION:Disneyland Resort\, 1313 Disneyland Dr\, Anaheim\, CA\, 92802\, United States
CATEGORIES:California
ATTACH;FMTTYPE=image/png:https://themeparkchatter.com/wp-content/uploads/2025/05/dlr-may-fourth-celebrate.png
END:VEVENT
END:VCALENDAR