BEGIN:VCALENDAR
VERSION:2.0
PRODID:-//Theme Park Chatter - ECPv6.15.20//NONSGML v1.0//EN
CALSCALE:GREGORIAN
METHOD:PUBLISH
X-WR-CALNAME:Theme Park Chatter
X-ORIGINAL-URL:https://themeparkchatter.com
X-WR-CALDESC:Events for Theme Park Chatter
REFRESH-INTERVAL;VALUE=DURATION:PT1H
X-Robots-Tag:noindex
X-PUBLISHED-TTL:PT1H
BEGIN:VTIMEZONE
TZID:UTC
BEGIN:STANDARD
TZOFFSETFROM:+0000
TZOFFSETTO:+0000
TZNAME:UTC
DTSTART:20240101T000000
END:STANDARD
END:VTIMEZONE
BEGIN:VEVENT
DTSTART;TZID=UTC:20251212T160000
DTEND;TZID=UTC:20251212T190000
DTSTAMP:20260422T124853
CREATED:20250430T025522Z
LAST-MODIFIED:20250514T135632Z
UID:10000043-1765555200-1765566000@themeparkchatter.com
SUMMARY:Disneyland: Noah - Artist Showcase
DESCRIPTION:The “Artist Showcase and Signing – Noah Elias” event at Disneyland is an opportunity for guests to meet the acclaimed artist Noah Elias and view his unique interpretations of Disney characters. Noah is known for his distinctive style\, often blending vibrant colors with detailed character portrayals\, which has made him a favorite among Disney art collectors worldwide. \n\n\n\n\n\nHere’s what you can typically expect at one of his showcases: \n\n\n\nMeet the Artist: You’ll have the chance to meet Noah Elias in person. This allows for a direct interaction with the artist\, where you can share your appreciation for his work and potentially ask questions about his artistic process and inspirations. \n\n\n\nArt Signing: Guests who purchase Noah Elias artwork at the event will have the opportunity to get their pieces personally signed by the artist. This adds a special touch and increases the collectibility of the artwork. Note that Disneyland merchandise event guidelines often state that only items purchased on the event day at the event location can be signed\, with a limit of two signed items per guest. \n\n\n\nLocation: For 2025\, Noah Elias’ showcases and signings are scheduled to take place at Disneyana on Main Street\, U.S.A.\, in Disneyland Park.Dates and Times (for events later in 2025): \n\n\n\n\nJune 27-29\, 2025: Friday 4:00 PM to 7:00 PM\, Saturday and Sunday 3:00 PM to 7:00 PM.\n\n\n\nSeptember 19-21\, 2025: Friday 4:00 PM to 7:00 PM\, Saturday and Sunday 3:00 PM to 7:00 PM.\n\n\n\nDecember 12-14\, 2025: Friday 4:00 PM to 7:00 PM\, Saturday and Sunday 3:00 PM to 7:00 PM.\n\n\n\n\nRemember that valid park admission and a park reservation for Disneyland Park on the day of the event are required for entry..
URL:https://themeparkchatter.com/event/disneyland-noah-artist-showcase/2025-12-12/
LOCATION:Disneyland Resort\, 1313 Disneyland Dr\, Anaheim\, CA\, 92802\, United States
CATEGORIES:California
ATTACH;FMTTYPE=image/png:https://themeparkchatter.com/wp-content/uploads/2025/04/noah-artist-showcase-banner.png
END:VEVENT
BEGIN:VEVENT
DTSTART;TZID=UTC:20251213T150000
DTEND;TZID=UTC:20251213T190000
DTSTAMP:20260422T124853
CREATED:20250430T025522Z
LAST-MODIFIED:20250514T135632Z
UID:10000044-1765638000-1765652400@themeparkchatter.com
SUMMARY:Disneyland: Noah - Artist Showcase
DESCRIPTION:The “Artist Showcase and Signing – Noah Elias” event at Disneyland is an opportunity for guests to meet the acclaimed artist Noah Elias and view his unique interpretations of Disney characters. Noah is known for his distinctive style\, often blending vibrant colors with detailed character portrayals\, which has made him a favorite among Disney art collectors worldwide. \n\n\n\n\n\nHere’s what you can typically expect at one of his showcases: \n\n\n\nMeet the Artist: You’ll have the chance to meet Noah Elias in person. This allows for a direct interaction with the artist\, where you can share your appreciation for his work and potentially ask questions about his artistic process and inspirations. \n\n\n\nArt Signing: Guests who purchase Noah Elias artwork at the event will have the opportunity to get their pieces personally signed by the artist. This adds a special touch and increases the collectibility of the artwork. Note that Disneyland merchandise event guidelines often state that only items purchased on the event day at the event location can be signed\, with a limit of two signed items per guest. \n\n\n\nLocation: For 2025\, Noah Elias’ showcases and signings are scheduled to take place at Disneyana on Main Street\, U.S.A.\, in Disneyland Park.Dates and Times (for events later in 2025): \n\n\n\n\nJune 27-29\, 2025: Friday 4:00 PM to 7:00 PM\, Saturday and Sunday 3:00 PM to 7:00 PM.\n\n\n\nSeptember 19-21\, 2025: Friday 4:00 PM to 7:00 PM\, Saturday and Sunday 3:00 PM to 7:00 PM.\n\n\n\nDecember 12-14\, 2025: Friday 4:00 PM to 7:00 PM\, Saturday and Sunday 3:00 PM to 7:00 PM.\n\n\n\n\nRemember that valid park admission and a park reservation for Disneyland Park on the day of the event are required for entry..
URL:https://themeparkchatter.com/event/disneyland-noah-artist-showcase/2025-12-13/
LOCATION:Disneyland Resort\, 1313 Disneyland Dr\, Anaheim\, CA\, 92802\, United States
CATEGORIES:California
ATTACH;FMTTYPE=image/png:https://themeparkchatter.com/wp-content/uploads/2025/04/noah-artist-showcase-banner.png
END:VEVENT
BEGIN:VEVENT
DTSTART;TZID=UTC:20251214T150000
DTEND;TZID=UTC:20251214T190000
DTSTAMP:20260422T124853
CREATED:20250430T025522Z
LAST-MODIFIED:20250514T135632Z
UID:10000045-1765724400-1765738800@themeparkchatter.com
SUMMARY:Disneyland: Noah - Artist Showcase
DESCRIPTION:The “Artist Showcase and Signing – Noah Elias” event at Disneyland is an opportunity for guests to meet the acclaimed artist Noah Elias and view his unique interpretations of Disney characters. Noah is known for his distinctive style\, often blending vibrant colors with detailed character portrayals\, which has made him a favorite among Disney art collectors worldwide. \n\n\n\n\n\nHere’s what you can typically expect at one of his showcases: \n\n\n\nMeet the Artist: You’ll have the chance to meet Noah Elias in person. This allows for a direct interaction with the artist\, where you can share your appreciation for his work and potentially ask questions about his artistic process and inspirations. \n\n\n\nArt Signing: Guests who purchase Noah Elias artwork at the event will have the opportunity to get their pieces personally signed by the artist. This adds a special touch and increases the collectibility of the artwork. Note that Disneyland merchandise event guidelines often state that only items purchased on the event day at the event location can be signed\, with a limit of two signed items per guest. \n\n\n\nLocation: For 2025\, Noah Elias’ showcases and signings are scheduled to take place at Disneyana on Main Street\, U.S.A.\, in Disneyland Park.Dates and Times (for events later in 2025): \n\n\n\n\nJune 27-29\, 2025: Friday 4:00 PM to 7:00 PM\, Saturday and Sunday 3:00 PM to 7:00 PM.\n\n\n\nSeptember 19-21\, 2025: Friday 4:00 PM to 7:00 PM\, Saturday and Sunday 3:00 PM to 7:00 PM.\n\n\n\nDecember 12-14\, 2025: Friday 4:00 PM to 7:00 PM\, Saturday and Sunday 3:00 PM to 7:00 PM.\n\n\n\n\nRemember that valid park admission and a park reservation for Disneyland Park on the day of the event are required for entry..
URL:https://themeparkchatter.com/event/disneyland-noah-artist-showcase/2025-12-14/
LOCATION:Disneyland Resort\, 1313 Disneyland Dr\, Anaheim\, CA\, 92802\, United States
CATEGORIES:California
ATTACH;FMTTYPE=image/png:https://themeparkchatter.com/wp-content/uploads/2025/04/noah-artist-showcase-banner.png
END:VEVENT
BEGIN:VEVENT
DTSTART;TZID=UTC:20251225T000000
DTEND;TZID=UTC:20251225T235959
DTSTAMP:20260422T124853
CREATED:20200101T180000Z
LAST-MODIFIED:20250514T135911Z
UID:10000116-1766620800-1766707199@themeparkchatter.com
SUMMARY:Christmas Day – Celebrate at the Parks - DLR
DESCRIPTION:Christmas Day at Disneyland is a great idea: \n\n\n\n\nTotal Holiday Immersion: Disneyland is decked out in stunning Christmas decorations – think towering trees\, twinkling lights\, and festive cheer everywhere.\n\n\n\nMagical Castle Transformation: Sleeping Beauty’s Winter Castle is breathtaking with dazzling lights and actual snowfall during the lighting ceremony.\n\n\n\nHoliday-Themed Rides: Enjoy special seasonal overlays on classic attractions like Haunted Mansion Holiday and “it’s a small world” Holiday.\n\n\n\nFestive Parade Fun: Catch “A Christmas Fantasy” parade with beloved characters in holiday attire\, marching toys\, and Santa!\n\n\n\nSpectacular Holiday Fireworks: “Believe… in Holiday Magic” fireworks light up the night sky with festive music and often\, more magical snowfall.\n\n\n\nCharacter Holiday Greetings: See your favorite Disney pals dressed in their Christmas best for unique meet-and-greets.\n\n\n\nDelicious Holiday Treats: Indulge in special seasonal foods and drinks available only during the holidays.\n\n\n\nResort-Wide Festivities: The holiday magic extends to the Disneyland Resort hotels and Downtown Disney with decorations and entertainment.\n\n\n\nUnforgettable Memories: Create a truly unique and joyful Christmas experience that you and your family will cherish.
URL:https://themeparkchatter.com/event/christmas-day-celebrate-at-the-parks-dlr/2025-12-25/
LOCATION:Disneyland Resort\, 1313 Disneyland Dr\, Anaheim\, CA\, 92802\, United States
CATEGORIES:California
ATTACH;FMTTYPE=image/png:https://themeparkchatter.com/wp-content/uploads/2020/01/dlr-disneyland-christmas-characters-outfits.png
END:VEVENT
BEGIN:VEVENT
DTSTART;TZID=UTC:20251225T000000
DTEND;TZID=UTC:20251225T235959
DTSTAMP:20260422T124853
CREATED:20220102T051700Z
LAST-MODIFIED:20250514T135622Z
UID:10000121-1766620800-1766707199@themeparkchatter.com
SUMMARY:Christmas Day – Celebrate at the Parks - WDW
DESCRIPTION:Christmas Day at Walt Disney World is a great idea: \n\n\n\n\nFour Parks of Festive Wonder: Each Walt Disney World theme park offers unique Christmas decorations and atmosphere\, from the classic Magic Kingdom to the global celebrations at EPCOT.\n\n\n\nIconic Holiday Decor: Cinderella Castle in Magic Kingdom is adorned with dazzling lights\, creating a breathtaking centerpiece for the holiday season.\n\n\n\nEPCOT’s International Festival of the Holidays: Experience holiday traditions from around the world with storytellers\, festive food and drink\, and the Candlelight Processional featuring celebrity narrators.\n\n\n\nHoliday Ride Overlays: Select attractions get a festive makeover\, like the Jingle Cruise in Magic Kingdom’s Adventureland.\n\n\n\nDisney’s Hollywood Studios Holiday Fun: Enjoy festive projections on the Tower of Terror and the Hollywood Tower Hotel\, holiday-themed shows\, and character greetings.\n\n\n\nDisney’s Animal Kingdom Holiday Cheer: Discover unique holiday decorations with an animal theme and festive entertainment throughout the park.\n\n\n\nResort Hotel Holiday Splendor: The Disney Resort hotels boast incredible holiday decorations\, including massive gingerbread displays and beautifully themed trees.\n\n\n\nHoliday Dining Experiences: Enjoy special holiday menus and dining events across the resort.\n\n\n\nA Truly Magical Christmas: Spending Christmas Day in the immersive and festive environment of Walt Disney World creates unforgettable holiday memories.\n\n\n\nMickey’s Very Merry Christmas Party (Select Nights): While requiring a separate ticket\, this event offers a special holiday parade (“Mickey’s Once Upon a Christmastime Parade”)\, fireworks (“Minnie’s Wonderful Christmastime Fireworks”)\, character meet-and-greets in holiday attire\, and “snowfall” on Main Street\, U.S.A. (Note: This is a ticketed event and may not be available on Christmas Day itself\, but the festive atmosphere carries over.)
URL:https://themeparkchatter.com/event/christmas-day-celebrate-at-the-parks-wdw/2025-12-25/
LOCATION:Walt Disney World\, 1375 East Buena Vista Drive\, Lake Buena Vista\, FL\, 32821\, United States
CATEGORIES:Florida
ATTACH;FMTTYPE=image/png:https://themeparkchatter.com/wp-content/uploads/2025/05/wdw-mickey-minnie-christmas-outfits-disney.png
END:VEVENT
END:VCALENDAR