BEGIN:VCALENDAR
VERSION:2.0
PRODID:-//Theme Park Chatter - ECPv6.15.20//NONSGML v1.0//EN
CALSCALE:GREGORIAN
METHOD:PUBLISH
X-WR-CALNAME:Theme Park Chatter
X-ORIGINAL-URL:https://themeparkchatter.com
X-WR-CALDESC:Events for Theme Park Chatter
REFRESH-INTERVAL;VALUE=DURATION:PT1H
X-Robots-Tag:noindex
X-PUBLISHED-TTL:PT1H
BEGIN:VTIMEZONE
TZID:Asia/Shanghai
BEGIN:STANDARD
TZOFFSETFROM:+0800
TZOFFSETTO:+0800
TZNAME:CST
DTSTART:20240101T000000
END:STANDARD
END:VTIMEZONE
BEGIN:VTIMEZONE
TZID:America/Los_Angeles
BEGIN:DAYLIGHT
TZOFFSETFROM:-0800
TZOFFSETTO:-0700
TZNAME:PDT
DTSTART:20240310T100000
END:DAYLIGHT
BEGIN:STANDARD
TZOFFSETFROM:-0700
TZOFFSETTO:-0800
TZNAME:PST
DTSTART:20241103T090000
END:STANDARD
BEGIN:DAYLIGHT
TZOFFSETFROM:-0800
TZOFFSETTO:-0700
TZNAME:PDT
DTSTART:20250309T100000
END:DAYLIGHT
BEGIN:STANDARD
TZOFFSETFROM:-0700
TZOFFSETTO:-0800
TZNAME:PST
DTSTART:20251102T090000
END:STANDARD
BEGIN:DAYLIGHT
TZOFFSETFROM:-0800
TZOFFSETTO:-0700
TZNAME:PDT
DTSTART:20260308T100000
END:DAYLIGHT
BEGIN:STANDARD
TZOFFSETFROM:-0700
TZOFFSETTO:-0800
TZNAME:PST
DTSTART:20261101T090000
END:STANDARD
END:VTIMEZONE
BEGIN:VEVENT
DTSTART;TZID=Asia/Shanghai:20250614T133000
DTEND;TZID=Asia/Shanghai:20250614T160000
DTSTAMP:20260425T050917
CREATED:20250506T085712Z
LAST-MODIFIED:20250514T135709Z
UID:10000138-1749907800-1749916800@themeparkchatter.com
SUMMARY:D23 & Fork n’ Film Present Walt Disney Animation Studios’ The Emperor’s New Groove
DESCRIPTION:Alright\, get ready to feel the groove! D23 and Fork n’ Film are teaming up to bring you a truly dynamite dining experience inspired by the hilarious Walt Disney Animation Studios’ classic\, The Emperor’s New Groove! This isn’t just watching a movie; it’s a full-on culinary adventure designed exclusively for D23 Gold Members. \n\n\n\nOh yeah\, it’s all coming together! While Kuzco and Pacha embark on their llama-led escapades on screen\, you’ll be treated to a delicious multi-course meal\, with drinks and eats perfectly paired with the film’s most iconic and laugh-out-loud moments. Get ready to taste the movie in a way only the innovative Fork n’ Film can deliver – it’s a gastronomic groove you won’t forget! \n\n\n\nThe Los Angeles Events will be held at The Wayfarer Downtown LA\, 813 Flower St\, Los Angeles\, CA 90017. \n\n\n\nCatch this exclusive movie and menu pairing in multiple cities on June 14th & 15th\, 2025: \n\n\n\n\nLos Angeles – June 14 & 15 at 1:30 p.m.\n\n\n\nNew York – June 14 & 15 at 1:30 p.m.\n\n\n\nLondon – June 14 at 1:30 p.m.\n\n\n\nLas Vegas – June 14 at 1:30 p.m.\n\n\n\nPortland – June 14 at 1:30 p.m.\n\n\n\n\nYour moment of triumph is approaching… dinnertime! But beware\, like Yzma’s schemes\, tickets will go fast! Don’t find yourself in a crucial conjunction of missing out. Head down the path of righteousness (and deliciousness!) and snag your spot for this can’t-miss\, taste-the-movie event before it’s too late! You must be signed in as a D23 Gold Member to view ticketing details and secure your place.
URL:https://themeparkchatter.com/event/d23-fork-n-film-present-walt-disney-animation-studios-the-emperors-new-groove/
LOCATION:The Wayfarer Downtown LA\, 813 Flower St\, Los Angeles\, CA\, 90017\, United States
CATEGORIES:California,Entertainment
ATTACH;FMTTYPE=image/png:https://themeparkchatter.com/wp-content/uploads/2025/05/D23-Fork-n-Film-Emperors-New-Groove-Dining.png
END:VEVENT
BEGIN:VEVENT
DTSTART;TZID=Asia/Shanghai:20250614T203000
DTEND;TZID=Asia/Shanghai:20250614T233000
DTSTAMP:20260425T050917
CREATED:20250506T085040Z
LAST-MODIFIED:20250514T135634Z
UID:10000136-1749933000-1749943800@themeparkchatter.com
SUMMARY:D23 & Street Food Cinema Present A Goofy Movie
DESCRIPTION:Get ready to shout “Hi Dad!” because D23 and Street Food Cinema are teaming up for a totally awesome 30th-anniversary celebration of Disney’s A Goofy Movie! Dust off your powerline moves and join us for a nostalgic outdoor movie night under the stars at The Autry Museum of the American West in Los Angeles on June 14th\, 2025. \n\n\n\nIt’s the perfect excuse to ditch the couch and relive the hilarious and heartwarming road trip of Goofy and Max. We’re bringing the big screen\, and Street Food Cinema will be bringing a delicious lineup of gourmet food trucks and refreshing drinks (available for purchase\, of course!). So\, whether you’re craving a “Leaning Tower of Cheeza” or just some good ol’ grub\, we’ve got you covered. \n\n\n\nBut wait\, there’s more! D23 Gold and General Members get early entry and access to a reserved seating area\, making sure you have the best spot to cheer on Max’s rockstar dreams (and Goofy’s… well\, Goofiness). \n\n\n\nMark your calendars! Tickets go on sale Friday\, March 7th\, 2025\, at 10 a.m. PT / 1 p.m. ET. And for those super fans who snag their tickets from this page on March 7th\, you’ll also score an exclusive commemorative gift to celebrate 30 years of A Goofy Movie AND a special discounted ticket price! Talk about a power surge of awesomeness! \n\n\n\nDon’t be a Goof and miss out on this fun-filled event! Grab your tickets before they’re gone and get ready for a night of laughs\, great food\, and pure Disney nostalgia!
URL:https://themeparkchatter.com/event/d23-street-food-cinema-present-a-goofy-movie/
LOCATION:The Autry Museum of the American West\, Griffith Park\, 4700 Western Heritage Way\, Los Angeles\, CA\, 90027\, United States
CATEGORIES:California,Entertainment
ATTACH;FMTTYPE=image/png:https://themeparkchatter.com/wp-content/uploads/2025/05/D23-Street-Food-Cinema-Goofy-Movie-Night.png
END:VEVENT
BEGIN:VEVENT
DTSTART;TZID=America/Los_Angeles:20250615T000000
DTEND;TZID=America/Los_Angeles:20250620T235959
DTSTAMP:20260425T050917
CREATED:20250502T150000Z
LAST-MODIFIED:20250514T135634Z
UID:10000288-1749945600-1750463999@themeparkchatter.com
SUMMARY:The Ripken Experience  – ESPN World of Sports
DESCRIPTION:Swing into Action! The Ripken Experience at ESPN Wide World of Sports! ⚾️🏟️ \n\n\n\nCalling all young baseball enthusiasts! Get ready for an unforgettable experience at the Ripken Experience at Walt Disney World® Resort\, located within the ESPN Wide World of Sports Complex! \n\n\n\nInspired by the legendary Cal Ripken Jr.\, this unique destination offers young athletes the chance to play and learn the game on professionally designed fields that replicate iconic ballparks from around the country. Whether it’s a team tournament\, a skills camp\, or a family baseball vacation\, the Ripken Experience provides top-notch facilities and a fun\, competitive environment. \n\n\n\nIf you’re looking for a memorable baseball adventure for your young player or team at the Walt Disney World Resort\, the Ripken Experience at ESPN Wide World of Sports is the place to be! Check their schedule for upcoming events and opportunities to step up to the plate!
URL:https://themeparkchatter.com/event/the-ripken-experience-espn-world-of-sports/2025-06-15/
LOCATION:Walt Disney World\, 1375 East Buena Vista Drive\, Lake Buena Vista\, FL\, 32821\, United States
CATEGORIES:Florida
ATTACH;FMTTYPE=image/png:https://themeparkchatter.com/wp-content/uploads/2025/05/Ripken-Baseball-ESPN-2025.png
END:VEVENT
END:VCALENDAR