BEGIN:VCALENDAR
VERSION:2.0
PRODID:-//Theme Park Chatter - ECPv6.15.20//NONSGML v1.0//EN
CALSCALE:GREGORIAN
METHOD:PUBLISH
X-WR-CALNAME:Theme Park Chatter
X-ORIGINAL-URL:https://themeparkchatter.com
X-WR-CALDESC:Events for Theme Park Chatter
REFRESH-INTERVAL;VALUE=DURATION:PT1H
X-Robots-Tag:noindex
X-PUBLISHED-TTL:PT1H
BEGIN:VTIMEZONE
TZID:America/Los_Angeles
BEGIN:DAYLIGHT
TZOFFSETFROM:-0800
TZOFFSETTO:-0700
TZNAME:PDT
DTSTART:20240310T100000
END:DAYLIGHT
BEGIN:STANDARD
TZOFFSETFROM:-0700
TZOFFSETTO:-0800
TZNAME:PST
DTSTART:20241103T090000
END:STANDARD
BEGIN:DAYLIGHT
TZOFFSETFROM:-0800
TZOFFSETTO:-0700
TZNAME:PDT
DTSTART:20250309T100000
END:DAYLIGHT
BEGIN:STANDARD
TZOFFSETFROM:-0700
TZOFFSETTO:-0800
TZNAME:PST
DTSTART:20251102T090000
END:STANDARD
BEGIN:DAYLIGHT
TZOFFSETFROM:-0800
TZOFFSETTO:-0700
TZNAME:PDT
DTSTART:20260308T100000
END:DAYLIGHT
BEGIN:STANDARD
TZOFFSETFROM:-0700
TZOFFSETTO:-0800
TZNAME:PST
DTSTART:20261101T090000
END:STANDARD
END:VTIMEZONE
BEGIN:VTIMEZONE
TZID:Asia/Shanghai
BEGIN:STANDARD
TZOFFSETFROM:+0800
TZOFFSETTO:+0800
TZNAME:CST
DTSTART:20240101T000000
END:STANDARD
END:VTIMEZONE
BEGIN:VTIMEZONE
TZID:UTC
BEGIN:STANDARD
TZOFFSETFROM:+0000
TZOFFSETTO:+0000
TZNAME:UTC
DTSTART:20240101T000000
END:STANDARD
END:VTIMEZONE
BEGIN:VEVENT
DTSTART;TZID=America/Los_Angeles:20250615T000000
DTEND;TZID=America/Los_Angeles:20250620T235959
DTSTAMP:20260425T080826
CREATED:20250502T150000Z
LAST-MODIFIED:20250514T135634Z
UID:10000288-1749945600-1750463999@themeparkchatter.com
SUMMARY:The Ripken Experience  – ESPN World of Sports
DESCRIPTION:Swing into Action! The Ripken Experience at ESPN Wide World of Sports! ⚾️🏟️ \n\n\n\nCalling all young baseball enthusiasts! Get ready for an unforgettable experience at the Ripken Experience at Walt Disney World® Resort\, located within the ESPN Wide World of Sports Complex! \n\n\n\nInspired by the legendary Cal Ripken Jr.\, this unique destination offers young athletes the chance to play and learn the game on professionally designed fields that replicate iconic ballparks from around the country. Whether it’s a team tournament\, a skills camp\, or a family baseball vacation\, the Ripken Experience provides top-notch facilities and a fun\, competitive environment. \n\n\n\nIf you’re looking for a memorable baseball adventure for your young player or team at the Walt Disney World Resort\, the Ripken Experience at ESPN Wide World of Sports is the place to be! Check their schedule for upcoming events and opportunities to step up to the plate!
URL:https://themeparkchatter.com/event/the-ripken-experience-espn-world-of-sports/2025-06-15/
LOCATION:Walt Disney World\, 1375 East Buena Vista Drive\, Lake Buena Vista\, FL\, 32821\, United States
CATEGORIES:Florida
ATTACH;FMTTYPE=image/png:https://themeparkchatter.com/wp-content/uploads/2025/05/Ripken-Baseball-ESPN-2025.png
END:VEVENT
BEGIN:VEVENT
DTSTART;TZID=Asia/Shanghai:20250617T210000
DTEND;TZID=Asia/Shanghai:20250618T010000
DTSTAMP:20260425T080826
CREATED:20250506T081723Z
LAST-MODIFIED:20250514T135633Z
UID:10000131-1750194000-1750208400@themeparkchatter.com
SUMMARY:Disneyland After Dark: Pride Nite
DESCRIPTION:Disneyland After Dark: Pride Nite is a separately ticketed after-hours event held at Disneyland Park in Anaheim\, California\, celebrating the LGBTQIA+ community and its allies. Here’s a summary of what you can expect: \n\n\n\nDates & Times: The next Pride Nite events will be held on June 16 and 18\, 2025\, from 9:00 PM to 1:00 AM. Ticket holders can typically enter the park as early as 6:00 PM on the event date. \n\n\n\nKey Highlights & Entertainment: \n\n\n\n\n“Welcome” Pride Fireworks: A dazzling fireworks show over Disneyland Park inspired by Walt Disney’s welcoming spirit.\n\n\n\nWelcome Pride Cavalcade: A lively procession featuring Mickey Mouse\, Minnie Mouse\, and their friends dressed in special rainbow attire.\n\n\n\nPride Musical Celebration: Heartwarming performances of beloved Disney songs celebrating individuality.\n\n\n\nPride Nite Dance Parties: Dance the night away to popular club tracks at the Rivers of America and enjoy a fun dance party with Stitch in Tomorrowland.\n\n\n\nCountry Line Dancing: Kick up your heels at the Golden Horseshoe with some country line dancing.\n\n\n\nCharacter Experiences: Meet various Disney characters throughout the park\, some in special Pride outfits.\n\n\n\nPhoto Opportunities: Enjoy unique photo backdrops inspired by Disney characters and films\, with free digital downloads via Disney PhotoPass.\n\n\n\nThemed Food & Beverages: Purchase special sweet and savory menu items available only during the event.\n\n\n\nShorter Wait Times: Enjoy after-hours access to select Disneyland attractions with typically shorter lines.\n\n\n\nCommemorative Keepsakes: Receive a special Pride Nite credential and event guide map.\n\n\n\n\nOverall Vibe: The event is described as a joyful and inclusive celebration\, bringing together family\, allies\, and friends to recognize and embrace the LGBTQIA+ community. The atmosphere is typically described as fun\, high-energy\, and filled with a spirit of acceptance. \n\n\n\nTickets: Tickets for the 2025 events go on sale April 16\, 2025\, for Magic Key holders and April 17\, 2025\, for the general public. They are limited and expected to sell out quickly
URL:https://themeparkchatter.com/event/disneyland-afte-dark-pride-nite/2025-06-17/
LOCATION:Disneyland Resort\, 1313 Disneyland Dr\, Anaheim\, CA\, 92802\, United States
CATEGORIES:California
ATTACH;FMTTYPE=image/webp:https://themeparkchatter.com/wp-content/uploads/2025/04/pride-nite-after-dark-disneyland-photo.webp
END:VEVENT
BEGIN:VEVENT
DTSTART;TZID=UTC:20250619T110000
DTEND;TZID=UTC:20250619T190000
DTSTAMP:20260425T080826
CREATED:20250311T160000Z
LAST-MODIFIED:20250514T135849Z
UID:10000050-1750330800-1750359600@themeparkchatter.com
SUMMARY:Disneyland: Dave Avanzino - Artist Showcase
DESCRIPTION:The “Artist Showcase and Signing – Dave Avanzino” event at Disneyland offers guests the opportunity to meet the talented artist Dave Avanzino and explore his unique and whimsical interpretations of Disney characters and park icons. Dave is known for his layered paper-cut art style\, creating intricate and often three-dimensional pieces that bring a fresh and playful perspective to classic Disney imagery. \n\n\n\n\n\nHere’s what you can typically expect at one of his showcases: \n\n\n\nEvent Details: \n\n\n\n\nDates:\n\nMarch 20 to 23\, 2025\n\n\n\nJune 19 to 22\, 2025\n\n\n\nAugust 21 to 24\, 2025\n\n\n\n\n\nTime: 11:00 AM to 7:00 PM\n\n\n\nLocations:\n\nMarch and June dates: Disneyana\, Main Street\, U.S.A.\, Disneyland Park\n\n\n\nAugust dates: Off the Page\, Hollywood Land\, Disney California Adventure Park\n\n\n\n\n\n\nMeet the Artist: You’ll have the chance to meet Dave Avanzino in person. This provides a wonderful opportunity to interact with the artist\, learn about his creative process\, and share your appreciation for his distinctive style. \n\n\n\nArt Signing: Guests who purchase Dave Avanzino artwork at the event will have the special opportunity to have their pieces personally signed by the artist. This personal touch adds significant value and makes the artwork even more special. Keep in mind Disneyland merchandise event guidelines often specify that only items purchased on the event day at the event location are eligible for signing\, with a limit on the number of signed items per guest.
URL:https://themeparkchatter.com/event/disneyland-dave-avanzino-artist-showcase/2025-06-19/
LOCATION:Disneyland Resort\, 1313 Disneyland Dr\, Anaheim\, CA\, 92802\, United States
CATEGORIES:California
ATTACH;FMTTYPE=image/png:https://themeparkchatter.com/wp-content/uploads/2025/04/dave-avanzino-artist-showcase-2.png
END:VEVENT
BEGIN:VEVENT
DTSTART;TZID=UTC:20250620T110000
DTEND;TZID=UTC:20250620T190000
DTSTAMP:20260425T080826
CREATED:20250311T160000Z
LAST-MODIFIED:20250514T135849Z
UID:10000051-1750417200-1750446000@themeparkchatter.com
SUMMARY:Disneyland: Dave Avanzino - Artist Showcase
DESCRIPTION:The “Artist Showcase and Signing – Dave Avanzino” event at Disneyland offers guests the opportunity to meet the talented artist Dave Avanzino and explore his unique and whimsical interpretations of Disney characters and park icons. Dave is known for his layered paper-cut art style\, creating intricate and often three-dimensional pieces that bring a fresh and playful perspective to classic Disney imagery. \n\n\n\n\n\nHere’s what you can typically expect at one of his showcases: \n\n\n\nEvent Details: \n\n\n\n\nDates:\n\nMarch 20 to 23\, 2025\n\n\n\nJune 19 to 22\, 2025\n\n\n\nAugust 21 to 24\, 2025\n\n\n\n\n\nTime: 11:00 AM to 7:00 PM\n\n\n\nLocations:\n\nMarch and June dates: Disneyana\, Main Street\, U.S.A.\, Disneyland Park\n\n\n\nAugust dates: Off the Page\, Hollywood Land\, Disney California Adventure Park\n\n\n\n\n\n\nMeet the Artist: You’ll have the chance to meet Dave Avanzino in person. This provides a wonderful opportunity to interact with the artist\, learn about his creative process\, and share your appreciation for his distinctive style. \n\n\n\nArt Signing: Guests who purchase Dave Avanzino artwork at the event will have the special opportunity to have their pieces personally signed by the artist. This personal touch adds significant value and makes the artwork even more special. Keep in mind Disneyland merchandise event guidelines often specify that only items purchased on the event day at the event location are eligible for signing\, with a limit on the number of signed items per guest.
URL:https://themeparkchatter.com/event/disneyland-dave-avanzino-artist-showcase/2025-06-20/
LOCATION:Disneyland Resort\, 1313 Disneyland Dr\, Anaheim\, CA\, 92802\, United States
CATEGORIES:California
ATTACH;FMTTYPE=image/png:https://themeparkchatter.com/wp-content/uploads/2025/04/dave-avanzino-artist-showcase-2.png
END:VEVENT
BEGIN:VEVENT
DTSTART;TZID=UTC:20250621T110000
DTEND;TZID=UTC:20250621T190000
DTSTAMP:20260425T080826
CREATED:20250311T160000Z
LAST-MODIFIED:20250514T135849Z
UID:10000052-1750503600-1750532400@themeparkchatter.com
SUMMARY:Disneyland: Dave Avanzino - Artist Showcase
DESCRIPTION:The “Artist Showcase and Signing – Dave Avanzino” event at Disneyland offers guests the opportunity to meet the talented artist Dave Avanzino and explore his unique and whimsical interpretations of Disney characters and park icons. Dave is known for his layered paper-cut art style\, creating intricate and often three-dimensional pieces that bring a fresh and playful perspective to classic Disney imagery. \n\n\n\n\n\nHere’s what you can typically expect at one of his showcases: \n\n\n\nEvent Details: \n\n\n\n\nDates:\n\nMarch 20 to 23\, 2025\n\n\n\nJune 19 to 22\, 2025\n\n\n\nAugust 21 to 24\, 2025\n\n\n\n\n\nTime: 11:00 AM to 7:00 PM\n\n\n\nLocations:\n\nMarch and June dates: Disneyana\, Main Street\, U.S.A.\, Disneyland Park\n\n\n\nAugust dates: Off the Page\, Hollywood Land\, Disney California Adventure Park\n\n\n\n\n\n\nMeet the Artist: You’ll have the chance to meet Dave Avanzino in person. This provides a wonderful opportunity to interact with the artist\, learn about his creative process\, and share your appreciation for his distinctive style. \n\n\n\nArt Signing: Guests who purchase Dave Avanzino artwork at the event will have the special opportunity to have their pieces personally signed by the artist. This personal touch adds significant value and makes the artwork even more special. Keep in mind Disneyland merchandise event guidelines often specify that only items purchased on the event day at the event location are eligible for signing\, with a limit on the number of signed items per guest.
URL:https://themeparkchatter.com/event/disneyland-dave-avanzino-artist-showcase/2025-06-21/
LOCATION:Disneyland Resort\, 1313 Disneyland Dr\, Anaheim\, CA\, 92802\, United States
CATEGORIES:California
ATTACH;FMTTYPE=image/png:https://themeparkchatter.com/wp-content/uploads/2025/04/dave-avanzino-artist-showcase-2.png
END:VEVENT
BEGIN:VEVENT
DTSTART;TZID=America/Los_Angeles:20250622T080000
DTEND;TZID=America/Los_Angeles:20250622T130000
DTSTAMP:20260425T080826
CREATED:20250509T134404Z
LAST-MODIFIED:20250514T135632Z
UID:10000300-1750579200-1750597200@themeparkchatter.com
SUMMARY:D23 Spotlight: 55 Years of Disney Archives – WDW
DESCRIPTION:A new D23 spotlight series is coming to Walt Disney World! D23 teased that this event will be held on June 22nd. The Official Disney Fan Club hosts a special event commemorating the Archives’ 55th anniversary. \n\n\n\nKey Things to Note: \n\n\n\nWest Coast Fans\, Take Note! For those on the West Coast\, there’s strong reason to believe that a similar presentation may be held in Glendale\, California\, home to the Walt Disney Archives. While not confirmed\, this would offer another opportunity to partake in the anniversary celebration. \n\n\n\nTicket Information Coming Soon: Keep a close watch on the official D23 website and social media channels for announcements regarding ticket sales. You won’t want to miss out! \n\n\n\nLimited Space Expected: Due to the exclusive nature of D23 Spotlight Series events\, space will likely be limited. Be sure to act quickly once tickets become available. \n\n\n\nLocation To Be Revealed: The exact location within Walt Disney World Resort for the celebration is yet to be announced\, adding an element of delightful anticipation. \n\n\n\n\nD23 Spotlight: 55 Years of Disney Archives – WDW
URL:https://themeparkchatter.com/event/d23-spotlight-55-years-of-disney-archives-wdw/
LOCATION:Walt Disney World\, 1375 East Buena Vista Drive\, Lake Buena Vista\, FL\, 32821\, United States
CATEGORIES:Florida
ATTACH;FMTTYPE=image/png:https://themeparkchatter.com/wp-content/uploads/2025/05/D23-Spotlight-55-WDW-2.png
END:VEVENT
BEGIN:VEVENT
DTSTART;TZID=UTC:20250622T110000
DTEND;TZID=UTC:20250622T190000
DTSTAMP:20260425T080826
CREATED:20250311T160000Z
LAST-MODIFIED:20250514T135849Z
UID:10000053-1750590000-1750618800@themeparkchatter.com
SUMMARY:Disneyland: Dave Avanzino - Artist Showcase
DESCRIPTION:The “Artist Showcase and Signing – Dave Avanzino” event at Disneyland offers guests the opportunity to meet the talented artist Dave Avanzino and explore his unique and whimsical interpretations of Disney characters and park icons. Dave is known for his layered paper-cut art style\, creating intricate and often three-dimensional pieces that bring a fresh and playful perspective to classic Disney imagery. \n\n\n\n\n\nHere’s what you can typically expect at one of his showcases: \n\n\n\nEvent Details: \n\n\n\n\nDates:\n\nMarch 20 to 23\, 2025\n\n\n\nJune 19 to 22\, 2025\n\n\n\nAugust 21 to 24\, 2025\n\n\n\n\n\nTime: 11:00 AM to 7:00 PM\n\n\n\nLocations:\n\nMarch and June dates: Disneyana\, Main Street\, U.S.A.\, Disneyland Park\n\n\n\nAugust dates: Off the Page\, Hollywood Land\, Disney California Adventure Park\n\n\n\n\n\n\nMeet the Artist: You’ll have the chance to meet Dave Avanzino in person. This provides a wonderful opportunity to interact with the artist\, learn about his creative process\, and share your appreciation for his distinctive style. \n\n\n\nArt Signing: Guests who purchase Dave Avanzino artwork at the event will have the special opportunity to have their pieces personally signed by the artist. This personal touch adds significant value and makes the artwork even more special. Keep in mind Disneyland merchandise event guidelines often specify that only items purchased on the event day at the event location are eligible for signing\, with a limit on the number of signed items per guest.
URL:https://themeparkchatter.com/event/disneyland-dave-avanzino-artist-showcase/2025-06-22/
LOCATION:Disneyland Resort\, 1313 Disneyland Dr\, Anaheim\, CA\, 92802\, United States
CATEGORIES:California
ATTACH;FMTTYPE=image/png:https://themeparkchatter.com/wp-content/uploads/2025/04/dave-avanzino-artist-showcase-2.png
END:VEVENT
END:VCALENDAR