BEGIN:VCALENDAR
VERSION:2.0
PRODID:-//Theme Park Chatter - ECPv6.15.20//NONSGML v1.0//EN
CALSCALE:GREGORIAN
METHOD:PUBLISH
X-ORIGINAL-URL:https://themeparkchatter.com
X-WR-CALDESC:Events for Theme Park Chatter
REFRESH-INTERVAL;VALUE=DURATION:PT1H
X-Robots-Tag:noindex
X-PUBLISHED-TTL:PT1H
BEGIN:VTIMEZONE
TZID:America/Los_Angeles
BEGIN:DAYLIGHT
TZOFFSETFROM:-0800
TZOFFSETTO:-0700
TZNAME:PDT
DTSTART:20240310T100000
END:DAYLIGHT
BEGIN:STANDARD
TZOFFSETFROM:-0700
TZOFFSETTO:-0800
TZNAME:PST
DTSTART:20241103T090000
END:STANDARD
BEGIN:DAYLIGHT
TZOFFSETFROM:-0800
TZOFFSETTO:-0700
TZNAME:PDT
DTSTART:20250309T100000
END:DAYLIGHT
BEGIN:STANDARD
TZOFFSETFROM:-0700
TZOFFSETTO:-0800
TZNAME:PST
DTSTART:20251102T090000
END:STANDARD
BEGIN:DAYLIGHT
TZOFFSETFROM:-0800
TZOFFSETTO:-0700
TZNAME:PDT
DTSTART:20260308T100000
END:DAYLIGHT
BEGIN:STANDARD
TZOFFSETFROM:-0700
TZOFFSETTO:-0800
TZNAME:PST
DTSTART:20261101T090000
END:STANDARD
END:VTIMEZONE
BEGIN:VTIMEZONE
TZID:UTC
BEGIN:STANDARD
TZOFFSETFROM:+0000
TZOFFSETTO:+0000
TZNAME:UTC
DTSTART:20240101T000000
END:STANDARD
END:VTIMEZONE
BEGIN:VEVENT
DTSTART;TZID=America/Los_Angeles:20250703T080000
DTEND;TZID=America/Los_Angeles:20250710T170000
DTSTAMP:20260422T235606
CREATED:20250411T150000Z
LAST-MODIFIED:20250514T135630Z
UID:10000290-1751529600-1752166800@themeparkchatter.com
SUMMARY:AAU Basketball World Championships – ESPN World of Sports
DESCRIPTION:Hoops Hype Alert! AAU Basketball World Championships Coming to ESPN Wide World of Sports! 🏀🌎 \n\n\n\nGet ready for some serious basketball action! The AAU Basketball World Championships are heading to the Walt Disney World® Resort and will be taking place at the renowned ESPN Wide World of Sports Complex! \n\n\n\nWhile specific dates for the 2025 event haven’t been released yet\, this prestigious tournament brings together talented young basketball players from across the globe to compete at a high level. Expect thrilling games\, fierce competition\, and the energy of future stars showcasing their skills. \n\n\n\nKeep an eye out for official announcements regarding dates and schedules if you’re interested in witnessing some exciting amateur basketball right in the heart of Walt Disney World! This is a fantastic opportunity to see the future of the sport in action.
URL:https://themeparkchatter.com/event/aau-basketball-world-championships-espn-world-of-sports/
LOCATION:Walt Disney World\, 1375 East Buena Vista Drive\, Lake Buena Vista\, FL\, 32821\, United States
CATEGORIES:Florida
ATTACH;FMTTYPE=image/png:https://themeparkchatter.com/wp-content/uploads/2025/05/AAU-Basketball-World-Championships-ESPN-2025.png
END:VEVENT
BEGIN:VEVENT
DTSTART;TZID=UTC:20250704T000000
DTEND;TZID=UTC:20250704T235959
DTSTAMP:20260422T235606
CREATED:20200101T170000Z
LAST-MODIFIED:20250514T135629Z
UID:10000101-1751587200-1751673599@themeparkchatter.com
SUMMARY:4th of July - Celebrate at WDW
DESCRIPTION:Don’t forget to make your park reservations for July 4th at Walt Disney World. \n\n\n\n\n\n\nWalt Disney World pulls out all the stops for the 4th of July\, with special events and patriotic flair across the parks. Here is what Walt Disney World has done in the past for the 4th of July at the Parks: \n\n\n\n\nMagic Kingdom:\n\n“Disney’s Celebrate America! A Fourth of July Concert in the Sky”: This is a spectacular fireworks show that’s even bigger and more dazzling than the usual nighttime display. It’s usually held on both July 3rd and 4th.\n\n\n\nDJ Parties: Dance the night away with DJs spinning tunes in front of Cinderella Castle and throughout the park.\n\n\n\n\n\nEPCOT:\n\n“Heartbeat of Freedom”: EPCOT usually adds a special patriotic finale to its nighttime spectacular.\n\n\n\nVoices of Liberty: Enjoy patriotic performances by the renowned a cappella group in The American Adventure pavilion.\n\n\n\nSpaceship Earth: The park’s iconic globe is often illuminated in red\, white\, and blue.\n\n\n\nPatriotic Character Meet-and-Greets: Some Disney characters may appear in special “Spirit of ’76” attire.\n\n\n\n\n\nSpecial Food and Merchandise: Look for limited-time\, red\, white\, and blue-themed treats and merchandise throughout the parks and resorts.\n\n\n\nDisney Resort Hotels: Many Disney resort hotels offer special activities like barbecues\, pool parties\, and fireworks viewing.\n\n\n\nDisney Springs: You might find special offerings\, such as the Flavors of Florida event.\n\n\n\n\n\n\n\n\n\n\n\n\n\n\n\n\n\n\nImportant Tips: \n\n\n\nTransportation: Allow extra time for transportation\, as buses\, monorails\, and boats will be crowded.Crowds: The 4th of July is one of the busiest times of the year at Disney World\, so be prepared for large crowds.Planning: Make park reservations early\, and plan your day in advance.Fireworks Viewing: Secure a good fireworks viewing spot well in advance\, especially in Magic Kingdom.
URL:https://themeparkchatter.com/event/4th-of-july-celebrate-at-wdw/2025-07-04/
LOCATION:Walt Disney World\, 1375 East Buena Vista Drive\, Lake Buena Vista\, FL\, 32821\, United States
CATEGORIES:Florida
ATTACH;FMTTYPE=image/png:https://themeparkchatter.com/wp-content/uploads/2025/05/wdw-patriotic-characters-fourth-july.png
END:VEVENT
BEGIN:VEVENT
DTSTART;TZID=UTC:20250704T000000
DTEND;TZID=UTC:20250704T235959
DTSTAMP:20260422T235606
CREATED:20200101T170000Z
LAST-MODIFIED:20250514T135629Z
UID:10000106-1751587200-1751673599@themeparkchatter.com
SUMMARY:4th of July - Celebrate at DLR
DESCRIPTION:Don’t forget to make your park reservations for July 4th at Walt Disney World. \n\n\n\n\n\n\nDisneyland pulls out all the stops for the 4th of July\, with special events and patriotic flair across the parks. Here is what Disneyland has done in the past for the 4th of July at the Parks: \n\n\n\n\nDisneyland Park:\n\nFireworks: This is a spectacular fireworks show that’s even bigger and more dazzling than the usual nighttime display. It’s usually held on both July 3rd and 4th.\n\n\n\n\n\nDisneyland Resort Atmosphere:\n\nFestive Food and Drinks: Expect special 4th of July-themed treats and beverages throughout the resort.\n\n\n\nLively Crowds: The parks will be very busy with guests celebrating the holiday\, creating a high-energy atmosphere.\n\n\n\n\n\nGeneral Tips:\n\nPlan Ahead: Arrive early\, make dining reservations if possible\, and be prepared for crowds.\n\n\n\nFireworks Viewing: Stake out a good spot for fireworks viewing well in advance. Popular locations include Main Street\, U.S.A.\, and in front of Sleeping Beauty Castle.\n\n\n\nTransportation: Allow extra time for getting around the resort\, as transportation will be busy.\n\n\n\n\n\nTo get the most up-to-date information on specific offerings and showtimes\, I recommend checking the official Disneyland Resort website or the Disneyland app closer to the date.\n\n\n\n\nImportant Tips: \n\n\n\nTransportation: Allow extra time for transportation\, as buses\, monorails\, and boats will be crowded.Crowds: The 4th of July is one of the busiest times of the year at Disneyland\, so be prepared for large crowds.Planning: Make park reservations early\, and plan your day in advance.Fireworks Viewing: Secure a good fireworks viewing spot well in advance\, especially in Disneyland.
URL:https://themeparkchatter.com/event/4th-of-july-celebrate-at-dlr/2025-07-04/
LOCATION:Disneyland Resort\, 1313 Disneyland Dr\, Anaheim\, CA\, 92802\, United States
CATEGORIES:California
ATTACH;FMTTYPE=image/png:https://themeparkchatter.com/wp-content/uploads/2025/05/dlr-disneyland-4th-of-july.png
END:VEVENT
BEGIN:VEVENT
DTSTART;TZID=America/Los_Angeles:20250706T000000
DTEND;TZID=America/Los_Angeles:20250711T235959
DTSTAMP:20260422T235606
CREATED:20250502T150000Z
LAST-MODIFIED:20250514T135634Z
UID:10000289-1751760000-1752278399@themeparkchatter.com
SUMMARY:The Ripken Experience  – ESPN World of Sports
DESCRIPTION:Swing into Action! The Ripken Experience at ESPN Wide World of Sports! ⚾️🏟️ \n\n\n\nCalling all young baseball enthusiasts! Get ready for an unforgettable experience at the Ripken Experience at Walt Disney World® Resort\, located within the ESPN Wide World of Sports Complex! \n\n\n\nInspired by the legendary Cal Ripken Jr.\, this unique destination offers young athletes the chance to play and learn the game on professionally designed fields that replicate iconic ballparks from around the country. Whether it’s a team tournament\, a skills camp\, or a family baseball vacation\, the Ripken Experience provides top-notch facilities and a fun\, competitive environment. \n\n\n\nIf you’re looking for a memorable baseball adventure for your young player or team at the Walt Disney World Resort\, the Ripken Experience at ESPN Wide World of Sports is the place to be! Check their schedule for upcoming events and opportunities to step up to the plate!
URL:https://themeparkchatter.com/event/the-ripken-experience-espn-world-of-sports/2025-07-06/
LOCATION:Walt Disney World\, 1375 East Buena Vista Drive\, Lake Buena Vista\, FL\, 32821\, United States
CATEGORIES:Florida
ATTACH;FMTTYPE=image/png:https://themeparkchatter.com/wp-content/uploads/2025/05/Ripken-Baseball-ESPN-2025.png
END:VEVENT
END:VCALENDAR