BEGIN:VCALENDAR
VERSION:2.0
PRODID:-//Theme Park Chatter - ECPv6.15.20//NONSGML v1.0//EN
CALSCALE:GREGORIAN
METHOD:PUBLISH
X-WR-CALNAME:Theme Park Chatter
X-ORIGINAL-URL:https://themeparkchatter.com
X-WR-CALDESC:Events for Theme Park Chatter
REFRESH-INTERVAL;VALUE=DURATION:PT1H
X-Robots-Tag:noindex
X-PUBLISHED-TTL:PT1H
BEGIN:VTIMEZONE
TZID:America/Los_Angeles
BEGIN:DAYLIGHT
TZOFFSETFROM:-0800
TZOFFSETTO:-0700
TZNAME:PDT
DTSTART:20240310T100000
END:DAYLIGHT
BEGIN:STANDARD
TZOFFSETFROM:-0700
TZOFFSETTO:-0800
TZNAME:PST
DTSTART:20241103T090000
END:STANDARD
BEGIN:DAYLIGHT
TZOFFSETFROM:-0800
TZOFFSETTO:-0700
TZNAME:PDT
DTSTART:20250309T100000
END:DAYLIGHT
BEGIN:STANDARD
TZOFFSETFROM:-0700
TZOFFSETTO:-0800
TZNAME:PST
DTSTART:20251102T090000
END:STANDARD
BEGIN:DAYLIGHT
TZOFFSETFROM:-0800
TZOFFSETTO:-0700
TZNAME:PDT
DTSTART:20260308T100000
END:DAYLIGHT
BEGIN:STANDARD
TZOFFSETFROM:-0700
TZOFFSETTO:-0800
TZNAME:PST
DTSTART:20261101T090000
END:STANDARD
END:VTIMEZONE
BEGIN:VTIMEZONE
TZID:UTC
BEGIN:STANDARD
TZOFFSETFROM:+0000
TZOFFSETTO:+0000
TZNAME:UTC
DTSTART:20240101T000000
END:STANDARD
END:VTIMEZONE
BEGIN:VEVENT
DTSTART;TZID=America/Los_Angeles:20250716T170000
DTEND;TZID=America/Los_Angeles:20250716T210000
DTSTAMP:20260425T050706
CREATED:20250604T145045Z
LAST-MODIFIED:20250604T145048Z
UID:10000306-1752685200-1752699600@themeparkchatter.com
SUMMARY:D23 Night at Anaheim Packing District
DESCRIPTION:D23 Night at Anaheim Packing District: A Fan & Foodie Fiesta! \n\n\n\nDate: July 16th\, 2025 Location: Anaheim Packing District \n\n\n\nJust in time for Disneyland Resort’s incredible 70th celebration\, prepare to embark on a culinary adventure that’s truly a “whole new world” for your taste buds! Gather your fellow fans and head to the nearby Anaheim Packing District for an evening jam-packed with unforgettable Disney spirit and mouth-watering delights. \n\n\n\nThis fan-favorite event promises an atmosphere brimming with D23 excitement and deliciousness around every corner. Put your Disney knowledge to the test with exciting trivia\, featuring can’t-miss\, catch-all queries that will challenge even the most seasoned Disney aficionados. \n\n\n\nLooking to get your creative juices flowing? Sip & Sketch at Unsung Brewing Company makes its delightful return\, offering awesome draws and refreshing drafts at this pop-culture themed local craft brewery. It’s the perfect blend of artistic expression and a relaxed\, fun atmosphere.
URL:https://themeparkchatter.com/event/d23-night-at-anaheim-packing-district/
LOCATION:Anaheim Packing District\, 440 S Anaheim Blvd\, Anaheim\, California\, 92805\, United States
CATEGORIES:California
ATTACH;FMTTYPE=image/png:https://themeparkchatter.com/wp-content/uploads/2025/06/d23-night-packing-district-2025.png
END:VEVENT
BEGIN:VEVENT
DTSTART;TZID=UTC:20250717T000000
DTEND;TZID=UTC:20250717T235959
DTSTAMP:20260425T050706
CREATED:20250429T035224Z
LAST-MODIFIED:20250514T135628Z
UID:10000001-1752710400-1752796799@themeparkchatter.com
SUMMARY:Disneyland - 70th Anniversary - July 17 (Actual Birthday)
DESCRIPTION:Disneyland is celebrating its 70th anniversary. The celebration\, themed “Celebrate Happy\,” honors seven decades of magic and joy at the original Disney park\, which first opened its doors on July 17\, 1955!
URL:https://themeparkchatter.com/event/disneyland-70th-anniversary-july-17-actual-birthday/
LOCATION:Disneyland Resort\, 1313 Disneyland Dr\, Anaheim\, CA\, 92802\, United States
CATEGORIES:California
ATTACH;FMTTYPE=image/png:https://themeparkchatter.com/wp-content/uploads/2025/05/Disneyland-70-Celebration-Kickoff.png
END:VEVENT
BEGIN:VEVENT
DTSTART;TZID=UTC:20250717T110000
DTEND;TZID=UTC:20250717T190000
DTSTAMP:20260425T050706
CREATED:20250423T034422Z
LAST-MODIFIED:20250514T135743Z
UID:10000062-1752750000-1752778800@themeparkchatter.com
SUMMARY:Disneyland: Thomas Kinkade Studios - Artist Showcase
DESCRIPTION:While there isn’t a specific “Artist Showcase and Signing – Thomas Kinkade” event listed under that exact name at Disneyland for the remainder of 2025\, Thomas Kinkade Studios artists do make regular appearances for showcases and signings of their Disney-inspired artwork. \n\n\n\n\n\nDates and Times \n\n\n\nMay 15-18\, 2025: Daily from 11:00 AM to 7:00 PM. \n\n\n\nJuly 17-20\, 2025: Daily from 11:00 AM to 7:00 PM. \n\n\n\nSeptember 25-28\, 2025: Daily from 11:00 AM to 7:00 PM. \n\n\n\nShowcasing the Legacy: Thomas Kinkade\, known as the “Painter of Light\,” passed away in 2012\, but his studio continues his legacy of creating luminous and narrative Disney artwork. The showcases often feature a range of limited edition canvases and prints that capture iconic Disney movie moments and characters in Kinkade’s signature style. These pieces often tell the entire story of a Disney film within a single image\, taking inspiration from Disney archival materials. \n\n\n\nMeet the Artists: Instead of Thomas Kinkade himself\, you’ll have the opportunity to meet and interact with the talented artists who continue his vision at Thomas Kinkade Studios. These artists can share insights into the creation process and the techniques used to bring these magical scenes to life. \n\n\n\nArt Signing: A highlight of these events is the chance to have your newly purchased Thomas Kinkade Studios Disney artwork signed by the visiting artist. This personal touch adds extra value and makes your piece even more special. Disneyland merchandise event guidelines typically state that only items purchased on the event day at the event location can be signed\, with a limit of two signed items per guest. \n\n\n\nExclusive Artwork and Sketches: Sometimes\, these showcases feature the release of new or exclusive Disney artwork from Thomas Kinkade Studios. In some instances\, the artists may even create special sketches on the back of purchased pieces\, offering a unique memento. \n\n\n\nLocation: For 2025\, the Thomas Kinkade Studios artist showcases and signings are scheduled to take place at Disneyana on Main Street\, U.S.A.\, in Disneyland Park.
URL:https://themeparkchatter.com/event/disneyland-thomas-kinkade-studios-artist-showcase/2025-07-17/
LOCATION:Disneyland Resort\, 1313 Disneyland Dr\, Anaheim\, CA\, 92802\, United States
CATEGORIES:California
ATTACH;FMTTYPE=image/jpeg:https://themeparkchatter.com/wp-content/uploads/2025/04/kinkade-disneyland-dca-art.jpg
END:VEVENT
BEGIN:VEVENT
DTSTART;TZID=UTC:20250718T110000
DTEND;TZID=UTC:20250718T190000
DTSTAMP:20260425T050706
CREATED:20250423T034422Z
LAST-MODIFIED:20250514T135743Z
UID:10000063-1752836400-1752865200@themeparkchatter.com
SUMMARY:Disneyland: Thomas Kinkade Studios - Artist Showcase
DESCRIPTION:While there isn’t a specific “Artist Showcase and Signing – Thomas Kinkade” event listed under that exact name at Disneyland for the remainder of 2025\, Thomas Kinkade Studios artists do make regular appearances for showcases and signings of their Disney-inspired artwork. \n\n\n\n\n\nDates and Times \n\n\n\nMay 15-18\, 2025: Daily from 11:00 AM to 7:00 PM. \n\n\n\nJuly 17-20\, 2025: Daily from 11:00 AM to 7:00 PM. \n\n\n\nSeptember 25-28\, 2025: Daily from 11:00 AM to 7:00 PM. \n\n\n\nShowcasing the Legacy: Thomas Kinkade\, known as the “Painter of Light\,” passed away in 2012\, but his studio continues his legacy of creating luminous and narrative Disney artwork. The showcases often feature a range of limited edition canvases and prints that capture iconic Disney movie moments and characters in Kinkade’s signature style. These pieces often tell the entire story of a Disney film within a single image\, taking inspiration from Disney archival materials. \n\n\n\nMeet the Artists: Instead of Thomas Kinkade himself\, you’ll have the opportunity to meet and interact with the talented artists who continue his vision at Thomas Kinkade Studios. These artists can share insights into the creation process and the techniques used to bring these magical scenes to life. \n\n\n\nArt Signing: A highlight of these events is the chance to have your newly purchased Thomas Kinkade Studios Disney artwork signed by the visiting artist. This personal touch adds extra value and makes your piece even more special. Disneyland merchandise event guidelines typically state that only items purchased on the event day at the event location can be signed\, with a limit of two signed items per guest. \n\n\n\nExclusive Artwork and Sketches: Sometimes\, these showcases feature the release of new or exclusive Disney artwork from Thomas Kinkade Studios. In some instances\, the artists may even create special sketches on the back of purchased pieces\, offering a unique memento. \n\n\n\nLocation: For 2025\, the Thomas Kinkade Studios artist showcases and signings are scheduled to take place at Disneyana on Main Street\, U.S.A.\, in Disneyland Park.
URL:https://themeparkchatter.com/event/disneyland-thomas-kinkade-studios-artist-showcase/2025-07-18/
LOCATION:Disneyland Resort\, 1313 Disneyland Dr\, Anaheim\, CA\, 92802\, United States
CATEGORIES:California
ATTACH;FMTTYPE=image/jpeg:https://themeparkchatter.com/wp-content/uploads/2025/04/kinkade-disneyland-dca-art.jpg
END:VEVENT
BEGIN:VEVENT
DTSTART;TZID=UTC:20250719T110000
DTEND;TZID=UTC:20250719T190000
DTSTAMP:20260425T050706
CREATED:20250423T034422Z
LAST-MODIFIED:20250514T135743Z
UID:10000064-1752922800-1752951600@themeparkchatter.com
SUMMARY:Disneyland: Thomas Kinkade Studios - Artist Showcase
DESCRIPTION:While there isn’t a specific “Artist Showcase and Signing – Thomas Kinkade” event listed under that exact name at Disneyland for the remainder of 2025\, Thomas Kinkade Studios artists do make regular appearances for showcases and signings of their Disney-inspired artwork. \n\n\n\n\n\nDates and Times \n\n\n\nMay 15-18\, 2025: Daily from 11:00 AM to 7:00 PM. \n\n\n\nJuly 17-20\, 2025: Daily from 11:00 AM to 7:00 PM. \n\n\n\nSeptember 25-28\, 2025: Daily from 11:00 AM to 7:00 PM. \n\n\n\nShowcasing the Legacy: Thomas Kinkade\, known as the “Painter of Light\,” passed away in 2012\, but his studio continues his legacy of creating luminous and narrative Disney artwork. The showcases often feature a range of limited edition canvases and prints that capture iconic Disney movie moments and characters in Kinkade’s signature style. These pieces often tell the entire story of a Disney film within a single image\, taking inspiration from Disney archival materials. \n\n\n\nMeet the Artists: Instead of Thomas Kinkade himself\, you’ll have the opportunity to meet and interact with the talented artists who continue his vision at Thomas Kinkade Studios. These artists can share insights into the creation process and the techniques used to bring these magical scenes to life. \n\n\n\nArt Signing: A highlight of these events is the chance to have your newly purchased Thomas Kinkade Studios Disney artwork signed by the visiting artist. This personal touch adds extra value and makes your piece even more special. Disneyland merchandise event guidelines typically state that only items purchased on the event day at the event location can be signed\, with a limit of two signed items per guest. \n\n\n\nExclusive Artwork and Sketches: Sometimes\, these showcases feature the release of new or exclusive Disney artwork from Thomas Kinkade Studios. In some instances\, the artists may even create special sketches on the back of purchased pieces\, offering a unique memento. \n\n\n\nLocation: For 2025\, the Thomas Kinkade Studios artist showcases and signings are scheduled to take place at Disneyana on Main Street\, U.S.A.\, in Disneyland Park.
URL:https://themeparkchatter.com/event/disneyland-thomas-kinkade-studios-artist-showcase/2025-07-19/
LOCATION:Disneyland Resort\, 1313 Disneyland Dr\, Anaheim\, CA\, 92802\, United States
CATEGORIES:California
ATTACH;FMTTYPE=image/jpeg:https://themeparkchatter.com/wp-content/uploads/2025/04/kinkade-disneyland-dca-art.jpg
END:VEVENT
BEGIN:VEVENT
DTSTART;TZID=UTC:20250720T110000
DTEND;TZID=UTC:20250720T190000
DTSTAMP:20260425T050706
CREATED:20250423T034422Z
LAST-MODIFIED:20250514T135743Z
UID:10000065-1753009200-1753038000@themeparkchatter.com
SUMMARY:Disneyland: Thomas Kinkade Studios - Artist Showcase
DESCRIPTION:While there isn’t a specific “Artist Showcase and Signing – Thomas Kinkade” event listed under that exact name at Disneyland for the remainder of 2025\, Thomas Kinkade Studios artists do make regular appearances for showcases and signings of their Disney-inspired artwork. \n\n\n\n\n\nDates and Times \n\n\n\nMay 15-18\, 2025: Daily from 11:00 AM to 7:00 PM. \n\n\n\nJuly 17-20\, 2025: Daily from 11:00 AM to 7:00 PM. \n\n\n\nSeptember 25-28\, 2025: Daily from 11:00 AM to 7:00 PM. \n\n\n\nShowcasing the Legacy: Thomas Kinkade\, known as the “Painter of Light\,” passed away in 2012\, but his studio continues his legacy of creating luminous and narrative Disney artwork. The showcases often feature a range of limited edition canvases and prints that capture iconic Disney movie moments and characters in Kinkade’s signature style. These pieces often tell the entire story of a Disney film within a single image\, taking inspiration from Disney archival materials. \n\n\n\nMeet the Artists: Instead of Thomas Kinkade himself\, you’ll have the opportunity to meet and interact with the talented artists who continue his vision at Thomas Kinkade Studios. These artists can share insights into the creation process and the techniques used to bring these magical scenes to life. \n\n\n\nArt Signing: A highlight of these events is the chance to have your newly purchased Thomas Kinkade Studios Disney artwork signed by the visiting artist. This personal touch adds extra value and makes your piece even more special. Disneyland merchandise event guidelines typically state that only items purchased on the event day at the event location can be signed\, with a limit of two signed items per guest. \n\n\n\nExclusive Artwork and Sketches: Sometimes\, these showcases feature the release of new or exclusive Disney artwork from Thomas Kinkade Studios. In some instances\, the artists may even create special sketches on the back of purchased pieces\, offering a unique memento. \n\n\n\nLocation: For 2025\, the Thomas Kinkade Studios artist showcases and signings are scheduled to take place at Disneyana on Main Street\, U.S.A.\, in Disneyland Park.
URL:https://themeparkchatter.com/event/disneyland-thomas-kinkade-studios-artist-showcase/2025-07-20/
LOCATION:Disneyland Resort\, 1313 Disneyland Dr\, Anaheim\, CA\, 92802\, United States
CATEGORIES:California
ATTACH;FMTTYPE=image/jpeg:https://themeparkchatter.com/wp-content/uploads/2025/04/kinkade-disneyland-dca-art.jpg
END:VEVENT
END:VCALENDAR