BEGIN:VCALENDAR
VERSION:2.0
PRODID:-//Theme Park Chatter - ECPv6.15.20//NONSGML v1.0//EN
CALSCALE:GREGORIAN
METHOD:PUBLISH
X-ORIGINAL-URL:https://themeparkchatter.com
X-WR-CALDESC:Events for Theme Park Chatter
REFRESH-INTERVAL;VALUE=DURATION:PT1H
X-Robots-Tag:noindex
X-PUBLISHED-TTL:PT1H
BEGIN:VTIMEZONE
TZID:America/Los_Angeles
BEGIN:DAYLIGHT
TZOFFSETFROM:-0800
TZOFFSETTO:-0700
TZNAME:PDT
DTSTART:20240310T100000
END:DAYLIGHT
BEGIN:STANDARD
TZOFFSETFROM:-0700
TZOFFSETTO:-0800
TZNAME:PST
DTSTART:20241103T090000
END:STANDARD
BEGIN:DAYLIGHT
TZOFFSETFROM:-0800
TZOFFSETTO:-0700
TZNAME:PDT
DTSTART:20250309T100000
END:DAYLIGHT
BEGIN:STANDARD
TZOFFSETFROM:-0700
TZOFFSETTO:-0800
TZNAME:PST
DTSTART:20251102T090000
END:STANDARD
BEGIN:DAYLIGHT
TZOFFSETFROM:-0800
TZOFFSETTO:-0700
TZNAME:PDT
DTSTART:20260308T100000
END:DAYLIGHT
BEGIN:STANDARD
TZOFFSETFROM:-0700
TZOFFSETTO:-0800
TZNAME:PST
DTSTART:20261101T090000
END:STANDARD
END:VTIMEZONE
BEGIN:VTIMEZONE
TZID:Asia/Shanghai
BEGIN:STANDARD
TZOFFSETFROM:+0800
TZOFFSETTO:+0800
TZNAME:CST
DTSTART:20240101T000000
END:STANDARD
END:VTIMEZONE
BEGIN:VEVENT
DTSTART;TZID=America/Los_Angeles:20250722T080000
DTEND;TZID=America/Los_Angeles:20250727T170000
DTSTAMP:20260422T235823
CREATED:20250308T160000Z
LAST-MODIFIED:20250514T135627Z
UID:10000291-1753171200-1753635600@themeparkchatter.com
SUMMARY:USYS National Championships – ESPN World of Sports
DESCRIPTION:The Nation’s Best Take the Field! USYS National Championships Coming to ESPN Wide World of Sports! ⚽️🏆 \n\n\n\nGet ready for some top-tier youth soccer action! The USYS National Championships are heading to the Walt Disney World® Resort at the prestigious ESPN Wide World of Sports Complex! \n\n\n\nWhile specific dates for this exact moment aren’t available\, this renowned complex regularly hosts the final stages of this prestigious tournament. Here’s what you can generally expect from this event: \n\n\n\nThis is the culmination of a year-long competition\, bringing together some of the best youth soccer teams from across the United States in the 12U through 19U age groups. Expect intense matches\, incredible displays of skill\, and the crowning of national champions. The ESPN Wide World of Sports Complex provides a fantastic stage for these talented young athletes to compete at the highest level. \n\n\n\nKeep an eye on the official US Youth Soccer (USYS) website (https://www.usyouthsoccer.org/national-championships/) and the Disney Events page (https://disneyevent.com/25usysnationals) for the specific dates of the upcoming championships (typically held in the summer\, with the 2025 event running from July 22nd to July 27th). If you’re a fan of high-level youth sports or will be at Walt Disney World® Resort during the event\, it’s a great opportunity to witness the future of American soccer!
URL:https://themeparkchatter.com/event/usys-national-championships-espn-world-of-sports/
LOCATION:Walt Disney World\, 1375 East Buena Vista Drive\, Lake Buena Vista\, FL\, 32821\, United States
CATEGORIES:Florida
ATTACH;FMTTYPE=image/png:https://themeparkchatter.com/wp-content/uploads/2025/05/USYS-National-Championship-ESPN-2025.png
END:VEVENT
BEGIN:VEVENT
DTSTART;TZID=Asia/Shanghai:20250726T203000
DTEND;TZID=Asia/Shanghai:20250726T230000
DTSTAMP:20260422T235823
CREATED:20250506T093829Z
LAST-MODIFIED:20250514T135627Z
UID:10000139-1753561800-1753570800@themeparkchatter.com
SUMMARY:D23 & Street Food Cinema Present Toy Story
DESCRIPTION:Howdy\, Partner! Get ready to celebrate 30 years of friendship\, adventure\, and “to infinity… and beyond!” because D23 and Street Food Cinema are hitchin’ their wagons for a special outdoor screening of the one and only Toy Story! Mosey on down to The Autry Museum of the American West in Los Angeles on July 26th\, 2025\, for a rootin’ tootin’ good time. \n\n\n\nIt’s the perfect way to spend the National Day of the Cowboy & Cowgirl! What could be better than enjoying a summer evening under the starry Los Angeles sky with Woody\, Buzz\, and the whole gang? Street Food Cinema will be there with a posse of delicious food trucks offering gourmet grub and refreshing drinks for purchase\, so you can fuel up for adventure. \n\n\n\nBut hold your horses\, there’s more! D23 Gold and General Members get early entry and prime reserved seating\, so you’ll have the best view to see those toys come to life. Plus\, you can explore The Autry’s galleries starting at 5:30 p.m. PT before the movie starts\, and groove along to live music from Mustangs of the West to celebrate the Cowboy & Cowgirl spirit! \n\n\n\nAnd for all you D23 members\, you’ll also wrangle a special discounted ticket offer for The Autry’s National Day of the Cowboy & Cowgirl festivities happening before the film. Imagine even more cowboy performances and educational presentations to make your day extra special! \n\n\n\nNow listen up\, Space Rangers and cowpokes! If you purchase your tickets for this event from this page on Friday\, March 14th\, 2025\, at 10 a.m. PT\, you’ll lasso an exclusive commemorative gift celebrating 30 years of Toy Story AND a special discounted ticket price! Don’t be slower than a rusty spring – get in on this early bird special! \n\n\n\nThis ain’t no ordinary movie night\, folks. It’s a celebration of friendship\, fun\, and fantastic storytelling. So\, don’t be a blockhead! Round up your favorite pals and get ready for a night of Toy Story magic under the stars. Tickets are gonna go faster than a Pizza Planet delivery truck\, so be sure to grab yours when they go on sale Saturday\, March 14th\, 2025\, at 10 a.m. PT right here on this page! Yee-haw!
URL:https://themeparkchatter.com/event/d23-street-food-cinema-present-toy-story/
LOCATION:The Autry Museum of the American West\, Griffith Park\, 4700 Western Heritage Way\, Los Angeles\, CA\, 90027\, United States
CATEGORIES:California,Entertainment
ATTACH;FMTTYPE=image/png:https://themeparkchatter.com/wp-content/uploads/2025/05/D23-Street-Food-Cinema-Toy-Story-Anniversary.png
END:VEVENT
END:VCALENDAR