BEGIN:VCALENDAR
VERSION:2.0
PRODID:-//Theme Park Chatter - ECPv6.15.20//NONSGML v1.0//EN
CALSCALE:GREGORIAN
METHOD:PUBLISH
X-WR-CALNAME:Theme Park Chatter
X-ORIGINAL-URL:https://themeparkchatter.com
X-WR-CALDESC:Events for Theme Park Chatter
REFRESH-INTERVAL;VALUE=DURATION:PT1H
X-Robots-Tag:noindex
X-PUBLISHED-TTL:PT1H
BEGIN:VTIMEZONE
TZID:UTC
BEGIN:STANDARD
TZOFFSETFROM:+0000
TZOFFSETTO:+0000
TZNAME:UTC
DTSTART:20240101T000000
END:STANDARD
END:VTIMEZONE
BEGIN:VEVENT
DTSTART;TZID=UTC:20250821T110000
DTEND;TZID=UTC:20250821T190000
DTSTAMP:20260422T235207
CREATED:20250311T160000Z
LAST-MODIFIED:20250514T135849Z
UID:10000054-1755774000-1755802800@themeparkchatter.com
SUMMARY:Disneyland: Dave Avanzino - Artist Showcase
DESCRIPTION:The “Artist Showcase and Signing – Dave Avanzino” event at Disneyland offers guests the opportunity to meet the talented artist Dave Avanzino and explore his unique and whimsical interpretations of Disney characters and park icons. Dave is known for his layered paper-cut art style\, creating intricate and often three-dimensional pieces that bring a fresh and playful perspective to classic Disney imagery. \n\n\n\n\n\nHere’s what you can typically expect at one of his showcases: \n\n\n\nEvent Details: \n\n\n\n\nDates:\n\nMarch 20 to 23\, 2025\n\n\n\nJune 19 to 22\, 2025\n\n\n\nAugust 21 to 24\, 2025\n\n\n\n\n\nTime: 11:00 AM to 7:00 PM\n\n\n\nLocations:\n\nMarch and June dates: Disneyana\, Main Street\, U.S.A.\, Disneyland Park\n\n\n\nAugust dates: Off the Page\, Hollywood Land\, Disney California Adventure Park\n\n\n\n\n\n\nMeet the Artist: You’ll have the chance to meet Dave Avanzino in person. This provides a wonderful opportunity to interact with the artist\, learn about his creative process\, and share your appreciation for his distinctive style. \n\n\n\nArt Signing: Guests who purchase Dave Avanzino artwork at the event will have the special opportunity to have their pieces personally signed by the artist. This personal touch adds significant value and makes the artwork even more special. Keep in mind Disneyland merchandise event guidelines often specify that only items purchased on the event day at the event location are eligible for signing\, with a limit on the number of signed items per guest.
URL:https://themeparkchatter.com/event/disneyland-dave-avanzino-artist-showcase/2025-08-21/
LOCATION:Disneyland Resort\, 1313 Disneyland Dr\, Anaheim\, CA\, 92802\, United States
CATEGORIES:California
ATTACH;FMTTYPE=image/png:https://themeparkchatter.com/wp-content/uploads/2025/04/dave-avanzino-artist-showcase-2.png
END:VEVENT
BEGIN:VEVENT
DTSTART;TZID=UTC:20250821T110000
DTEND;TZID=UTC:20250821T190000
DTSTAMP:20260422T235207
CREATED:20250430T024643Z
LAST-MODIFIED:20250514T135838Z
UID:10000029-1755774000-1755802800@themeparkchatter.com
SUMMARY:Disneyland: Scooter - Artist Showcase
DESCRIPTION:The “Artist Showcase and Signing – Scooter” event is an opportunity for fans to meet the artist known as Scooter\, view a showcase of their artwork\, and have purchased pieces signed.  \n\n\n\n\n\nMeet and Greet with Scooter: Attendees will have the chance to meet Scooter in person. This provides a direct interaction with the artist\, allowing fans to express their appreciation for their work. \n\n\n\nArt Signing: A key part of the event is the opportunity to have artwork purchased at the showcase (or sometimes previously purchased pieces\, depending on the event’s rules) signed by Scooter. This personalizes the artwork and can increase its sentimental and collector’s value. \n\n\n\nLocation: Disneyana\, Main Street\, U.S.A.\, Disneyland Park \n\n\n\n\nDates:\n\nApril 10 to 13\, 2025\n\n\n\nAugust 21 to 24\, 2025\n\n\n\nNovember 20 to 23\, 2025\n\n\n\n\n\nTimes: 11:00 AM to 2:00 PM and 4:00 PM to 7:00 PM\, daily
URL:https://themeparkchatter.com/event/disneyland-scooter-artist-showcase/2025-08-21/
LOCATION:Disneyland Resort\, 1313 Disneyland Dr\, Anaheim\, CA\, 92802\, United States
CATEGORIES:California
ATTACH;FMTTYPE=image/webp:https://themeparkchatter.com/wp-content/uploads/2025/04/scooter-artist-showcase-let-magic-begin.webp
END:VEVENT
BEGIN:VEVENT
DTSTART;TZID=UTC:20250822T110000
DTEND;TZID=UTC:20250822T190000
DTSTAMP:20260422T235207
CREATED:20250311T160000Z
LAST-MODIFIED:20250514T135849Z
UID:10000055-1755860400-1755889200@themeparkchatter.com
SUMMARY:Disneyland: Dave Avanzino - Artist Showcase
DESCRIPTION:The “Artist Showcase and Signing – Dave Avanzino” event at Disneyland offers guests the opportunity to meet the talented artist Dave Avanzino and explore his unique and whimsical interpretations of Disney characters and park icons. Dave is known for his layered paper-cut art style\, creating intricate and often three-dimensional pieces that bring a fresh and playful perspective to classic Disney imagery. \n\n\n\n\n\nHere’s what you can typically expect at one of his showcases: \n\n\n\nEvent Details: \n\n\n\n\nDates:\n\nMarch 20 to 23\, 2025\n\n\n\nJune 19 to 22\, 2025\n\n\n\nAugust 21 to 24\, 2025\n\n\n\n\n\nTime: 11:00 AM to 7:00 PM\n\n\n\nLocations:\n\nMarch and June dates: Disneyana\, Main Street\, U.S.A.\, Disneyland Park\n\n\n\nAugust dates: Off the Page\, Hollywood Land\, Disney California Adventure Park\n\n\n\n\n\n\nMeet the Artist: You’ll have the chance to meet Dave Avanzino in person. This provides a wonderful opportunity to interact with the artist\, learn about his creative process\, and share your appreciation for his distinctive style. \n\n\n\nArt Signing: Guests who purchase Dave Avanzino artwork at the event will have the special opportunity to have their pieces personally signed by the artist. This personal touch adds significant value and makes the artwork even more special. Keep in mind Disneyland merchandise event guidelines often specify that only items purchased on the event day at the event location are eligible for signing\, with a limit on the number of signed items per guest.
URL:https://themeparkchatter.com/event/disneyland-dave-avanzino-artist-showcase/2025-08-22/
LOCATION:Disneyland Resort\, 1313 Disneyland Dr\, Anaheim\, CA\, 92802\, United States
CATEGORIES:California
ATTACH;FMTTYPE=image/png:https://themeparkchatter.com/wp-content/uploads/2025/04/dave-avanzino-artist-showcase-2.png
END:VEVENT
BEGIN:VEVENT
DTSTART;TZID=UTC:20250822T110000
DTEND;TZID=UTC:20250822T190000
DTSTAMP:20260422T235207
CREATED:20250430T024643Z
LAST-MODIFIED:20250514T135838Z
UID:10000030-1755860400-1755889200@themeparkchatter.com
SUMMARY:Disneyland: Scooter - Artist Showcase
DESCRIPTION:The “Artist Showcase and Signing – Scooter” event is an opportunity for fans to meet the artist known as Scooter\, view a showcase of their artwork\, and have purchased pieces signed.  \n\n\n\n\n\nMeet and Greet with Scooter: Attendees will have the chance to meet Scooter in person. This provides a direct interaction with the artist\, allowing fans to express their appreciation for their work. \n\n\n\nArt Signing: A key part of the event is the opportunity to have artwork purchased at the showcase (or sometimes previously purchased pieces\, depending on the event’s rules) signed by Scooter. This personalizes the artwork and can increase its sentimental and collector’s value. \n\n\n\nLocation: Disneyana\, Main Street\, U.S.A.\, Disneyland Park \n\n\n\n\nDates:\n\nApril 10 to 13\, 2025\n\n\n\nAugust 21 to 24\, 2025\n\n\n\nNovember 20 to 23\, 2025\n\n\n\n\n\nTimes: 11:00 AM to 2:00 PM and 4:00 PM to 7:00 PM\, daily
URL:https://themeparkchatter.com/event/disneyland-scooter-artist-showcase/2025-08-22/
LOCATION:Disneyland Resort\, 1313 Disneyland Dr\, Anaheim\, CA\, 92802\, United States
CATEGORIES:California
ATTACH;FMTTYPE=image/webp:https://themeparkchatter.com/wp-content/uploads/2025/04/scooter-artist-showcase-let-magic-begin.webp
END:VEVENT
BEGIN:VEVENT
DTSTART;TZID=UTC:20250823T110000
DTEND;TZID=UTC:20250823T190000
DTSTAMP:20260422T235207
CREATED:20250311T160000Z
LAST-MODIFIED:20250514T135849Z
UID:10000056-1755946800-1755975600@themeparkchatter.com
SUMMARY:Disneyland: Dave Avanzino - Artist Showcase
DESCRIPTION:The “Artist Showcase and Signing – Dave Avanzino” event at Disneyland offers guests the opportunity to meet the talented artist Dave Avanzino and explore his unique and whimsical interpretations of Disney characters and park icons. Dave is known for his layered paper-cut art style\, creating intricate and often three-dimensional pieces that bring a fresh and playful perspective to classic Disney imagery. \n\n\n\n\n\nHere’s what you can typically expect at one of his showcases: \n\n\n\nEvent Details: \n\n\n\n\nDates:\n\nMarch 20 to 23\, 2025\n\n\n\nJune 19 to 22\, 2025\n\n\n\nAugust 21 to 24\, 2025\n\n\n\n\n\nTime: 11:00 AM to 7:00 PM\n\n\n\nLocations:\n\nMarch and June dates: Disneyana\, Main Street\, U.S.A.\, Disneyland Park\n\n\n\nAugust dates: Off the Page\, Hollywood Land\, Disney California Adventure Park\n\n\n\n\n\n\nMeet the Artist: You’ll have the chance to meet Dave Avanzino in person. This provides a wonderful opportunity to interact with the artist\, learn about his creative process\, and share your appreciation for his distinctive style. \n\n\n\nArt Signing: Guests who purchase Dave Avanzino artwork at the event will have the special opportunity to have their pieces personally signed by the artist. This personal touch adds significant value and makes the artwork even more special. Keep in mind Disneyland merchandise event guidelines often specify that only items purchased on the event day at the event location are eligible for signing\, with a limit on the number of signed items per guest.
URL:https://themeparkchatter.com/event/disneyland-dave-avanzino-artist-showcase/2025-08-23/
LOCATION:Disneyland Resort\, 1313 Disneyland Dr\, Anaheim\, CA\, 92802\, United States
CATEGORIES:California
ATTACH;FMTTYPE=image/png:https://themeparkchatter.com/wp-content/uploads/2025/04/dave-avanzino-artist-showcase-2.png
END:VEVENT
BEGIN:VEVENT
DTSTART;TZID=UTC:20250823T110000
DTEND;TZID=UTC:20250823T190000
DTSTAMP:20260422T235207
CREATED:20250430T024643Z
LAST-MODIFIED:20250514T135838Z
UID:10000031-1755946800-1755975600@themeparkchatter.com
SUMMARY:Disneyland: Scooter - Artist Showcase
DESCRIPTION:The “Artist Showcase and Signing – Scooter” event is an opportunity for fans to meet the artist known as Scooter\, view a showcase of their artwork\, and have purchased pieces signed.  \n\n\n\n\n\nMeet and Greet with Scooter: Attendees will have the chance to meet Scooter in person. This provides a direct interaction with the artist\, allowing fans to express their appreciation for their work. \n\n\n\nArt Signing: A key part of the event is the opportunity to have artwork purchased at the showcase (or sometimes previously purchased pieces\, depending on the event’s rules) signed by Scooter. This personalizes the artwork and can increase its sentimental and collector’s value. \n\n\n\nLocation: Disneyana\, Main Street\, U.S.A.\, Disneyland Park \n\n\n\n\nDates:\n\nApril 10 to 13\, 2025\n\n\n\nAugust 21 to 24\, 2025\n\n\n\nNovember 20 to 23\, 2025\n\n\n\n\n\nTimes: 11:00 AM to 2:00 PM and 4:00 PM to 7:00 PM\, daily
URL:https://themeparkchatter.com/event/disneyland-scooter-artist-showcase/2025-08-23/
LOCATION:Disneyland Resort\, 1313 Disneyland Dr\, Anaheim\, CA\, 92802\, United States
CATEGORIES:California
ATTACH;FMTTYPE=image/webp:https://themeparkchatter.com/wp-content/uploads/2025/04/scooter-artist-showcase-let-magic-begin.webp
END:VEVENT
BEGIN:VEVENT
DTSTART;TZID=UTC:20250824T110000
DTEND;TZID=UTC:20250824T190000
DTSTAMP:20260422T235207
CREATED:20250311T160000Z
LAST-MODIFIED:20250514T135849Z
UID:10000057-1756033200-1756062000@themeparkchatter.com
SUMMARY:Disneyland: Dave Avanzino - Artist Showcase
DESCRIPTION:The “Artist Showcase and Signing – Dave Avanzino” event at Disneyland offers guests the opportunity to meet the talented artist Dave Avanzino and explore his unique and whimsical interpretations of Disney characters and park icons. Dave is known for his layered paper-cut art style\, creating intricate and often three-dimensional pieces that bring a fresh and playful perspective to classic Disney imagery. \n\n\n\n\n\nHere’s what you can typically expect at one of his showcases: \n\n\n\nEvent Details: \n\n\n\n\nDates:\n\nMarch 20 to 23\, 2025\n\n\n\nJune 19 to 22\, 2025\n\n\n\nAugust 21 to 24\, 2025\n\n\n\n\n\nTime: 11:00 AM to 7:00 PM\n\n\n\nLocations:\n\nMarch and June dates: Disneyana\, Main Street\, U.S.A.\, Disneyland Park\n\n\n\nAugust dates: Off the Page\, Hollywood Land\, Disney California Adventure Park\n\n\n\n\n\n\nMeet the Artist: You’ll have the chance to meet Dave Avanzino in person. This provides a wonderful opportunity to interact with the artist\, learn about his creative process\, and share your appreciation for his distinctive style. \n\n\n\nArt Signing: Guests who purchase Dave Avanzino artwork at the event will have the special opportunity to have their pieces personally signed by the artist. This personal touch adds significant value and makes the artwork even more special. Keep in mind Disneyland merchandise event guidelines often specify that only items purchased on the event day at the event location are eligible for signing\, with a limit on the number of signed items per guest.
URL:https://themeparkchatter.com/event/disneyland-dave-avanzino-artist-showcase/2025-08-24/
LOCATION:Disneyland Resort\, 1313 Disneyland Dr\, Anaheim\, CA\, 92802\, United States
CATEGORIES:California
ATTACH;FMTTYPE=image/png:https://themeparkchatter.com/wp-content/uploads/2025/04/dave-avanzino-artist-showcase-2.png
END:VEVENT
BEGIN:VEVENT
DTSTART;TZID=UTC:20250824T110000
DTEND;TZID=UTC:20250824T190000
DTSTAMP:20260422T235207
CREATED:20250430T024643Z
LAST-MODIFIED:20250514T135838Z
UID:10000032-1756033200-1756062000@themeparkchatter.com
SUMMARY:Disneyland: Scooter - Artist Showcase
DESCRIPTION:The “Artist Showcase and Signing – Scooter” event is an opportunity for fans to meet the artist known as Scooter\, view a showcase of their artwork\, and have purchased pieces signed.  \n\n\n\n\n\nMeet and Greet with Scooter: Attendees will have the chance to meet Scooter in person. This provides a direct interaction with the artist\, allowing fans to express their appreciation for their work. \n\n\n\nArt Signing: A key part of the event is the opportunity to have artwork purchased at the showcase (or sometimes previously purchased pieces\, depending on the event’s rules) signed by Scooter. This personalizes the artwork and can increase its sentimental and collector’s value. \n\n\n\nLocation: Disneyana\, Main Street\, U.S.A.\, Disneyland Park \n\n\n\n\nDates:\n\nApril 10 to 13\, 2025\n\n\n\nAugust 21 to 24\, 2025\n\n\n\nNovember 20 to 23\, 2025\n\n\n\n\n\nTimes: 11:00 AM to 2:00 PM and 4:00 PM to 7:00 PM\, daily
URL:https://themeparkchatter.com/event/disneyland-scooter-artist-showcase/2025-08-24/
LOCATION:Disneyland Resort\, 1313 Disneyland Dr\, Anaheim\, CA\, 92802\, United States
CATEGORIES:California
ATTACH;FMTTYPE=image/webp:https://themeparkchatter.com/wp-content/uploads/2025/04/scooter-artist-showcase-let-magic-begin.webp
END:VEVENT
END:VCALENDAR