BEGIN:VCALENDAR
VERSION:2.0
PRODID:-//Theme Park Chatter - ECPv6.15.20//NONSGML v1.0//EN
CALSCALE:GREGORIAN
METHOD:PUBLISH
X-ORIGINAL-URL:https://themeparkchatter.com
X-WR-CALDESC:Events for Theme Park Chatter
REFRESH-INTERVAL;VALUE=DURATION:PT1H
X-Robots-Tag:noindex
X-PUBLISHED-TTL:PT1H
BEGIN:VTIMEZONE
TZID:UTC
BEGIN:STANDARD
TZOFFSETFROM:+0000
TZOFFSETTO:+0000
TZNAME:UTC
DTSTART:20240101T000000
END:STANDARD
END:VTIMEZONE
BEGIN:VEVENT
DTSTART;TZID=UTC:20250925T110000
DTEND;TZID=UTC:20250925T190000
DTSTAMP:20260422T235950
CREATED:20250423T034422Z
LAST-MODIFIED:20250514T135743Z
UID:10000066-1758798000-1758826800@themeparkchatter.com
SUMMARY:Disneyland: Thomas Kinkade Studios - Artist Showcase
DESCRIPTION:While there isn’t a specific “Artist Showcase and Signing – Thomas Kinkade” event listed under that exact name at Disneyland for the remainder of 2025\, Thomas Kinkade Studios artists do make regular appearances for showcases and signings of their Disney-inspired artwork. \n\n\n\n\n\nDates and Times \n\n\n\nMay 15-18\, 2025: Daily from 11:00 AM to 7:00 PM. \n\n\n\nJuly 17-20\, 2025: Daily from 11:00 AM to 7:00 PM. \n\n\n\nSeptember 25-28\, 2025: Daily from 11:00 AM to 7:00 PM. \n\n\n\nShowcasing the Legacy: Thomas Kinkade\, known as the “Painter of Light\,” passed away in 2012\, but his studio continues his legacy of creating luminous and narrative Disney artwork. The showcases often feature a range of limited edition canvases and prints that capture iconic Disney movie moments and characters in Kinkade’s signature style. These pieces often tell the entire story of a Disney film within a single image\, taking inspiration from Disney archival materials. \n\n\n\nMeet the Artists: Instead of Thomas Kinkade himself\, you’ll have the opportunity to meet and interact with the talented artists who continue his vision at Thomas Kinkade Studios. These artists can share insights into the creation process and the techniques used to bring these magical scenes to life. \n\n\n\nArt Signing: A highlight of these events is the chance to have your newly purchased Thomas Kinkade Studios Disney artwork signed by the visiting artist. This personal touch adds extra value and makes your piece even more special. Disneyland merchandise event guidelines typically state that only items purchased on the event day at the event location can be signed\, with a limit of two signed items per guest. \n\n\n\nExclusive Artwork and Sketches: Sometimes\, these showcases feature the release of new or exclusive Disney artwork from Thomas Kinkade Studios. In some instances\, the artists may even create special sketches on the back of purchased pieces\, offering a unique memento. \n\n\n\nLocation: For 2025\, the Thomas Kinkade Studios artist showcases and signings are scheduled to take place at Disneyana on Main Street\, U.S.A.\, in Disneyland Park.
URL:https://themeparkchatter.com/event/disneyland-thomas-kinkade-studios-artist-showcase/2025-09-25/
LOCATION:Disneyland Resort\, 1313 Disneyland Dr\, Anaheim\, CA\, 92802\, United States
CATEGORIES:California
ATTACH;FMTTYPE=image/jpeg:https://themeparkchatter.com/wp-content/uploads/2025/04/kinkade-disneyland-dca-art.jpg
END:VEVENT
BEGIN:VEVENT
DTSTART;TZID=UTC:20250926T110000
DTEND;TZID=UTC:20250926T190000
DTSTAMP:20260422T235950
CREATED:20250423T034422Z
LAST-MODIFIED:20250514T135743Z
UID:10000067-1758884400-1758913200@themeparkchatter.com
SUMMARY:Disneyland: Thomas Kinkade Studios - Artist Showcase
DESCRIPTION:While there isn’t a specific “Artist Showcase and Signing – Thomas Kinkade” event listed under that exact name at Disneyland for the remainder of 2025\, Thomas Kinkade Studios artists do make regular appearances for showcases and signings of their Disney-inspired artwork. \n\n\n\n\n\nDates and Times \n\n\n\nMay 15-18\, 2025: Daily from 11:00 AM to 7:00 PM. \n\n\n\nJuly 17-20\, 2025: Daily from 11:00 AM to 7:00 PM. \n\n\n\nSeptember 25-28\, 2025: Daily from 11:00 AM to 7:00 PM. \n\n\n\nShowcasing the Legacy: Thomas Kinkade\, known as the “Painter of Light\,” passed away in 2012\, but his studio continues his legacy of creating luminous and narrative Disney artwork. The showcases often feature a range of limited edition canvases and prints that capture iconic Disney movie moments and characters in Kinkade’s signature style. These pieces often tell the entire story of a Disney film within a single image\, taking inspiration from Disney archival materials. \n\n\n\nMeet the Artists: Instead of Thomas Kinkade himself\, you’ll have the opportunity to meet and interact with the talented artists who continue his vision at Thomas Kinkade Studios. These artists can share insights into the creation process and the techniques used to bring these magical scenes to life. \n\n\n\nArt Signing: A highlight of these events is the chance to have your newly purchased Thomas Kinkade Studios Disney artwork signed by the visiting artist. This personal touch adds extra value and makes your piece even more special. Disneyland merchandise event guidelines typically state that only items purchased on the event day at the event location can be signed\, with a limit of two signed items per guest. \n\n\n\nExclusive Artwork and Sketches: Sometimes\, these showcases feature the release of new or exclusive Disney artwork from Thomas Kinkade Studios. In some instances\, the artists may even create special sketches on the back of purchased pieces\, offering a unique memento. \n\n\n\nLocation: For 2025\, the Thomas Kinkade Studios artist showcases and signings are scheduled to take place at Disneyana on Main Street\, U.S.A.\, in Disneyland Park.
URL:https://themeparkchatter.com/event/disneyland-thomas-kinkade-studios-artist-showcase/2025-09-26/
LOCATION:Disneyland Resort\, 1313 Disneyland Dr\, Anaheim\, CA\, 92802\, United States
CATEGORIES:California
ATTACH;FMTTYPE=image/jpeg:https://themeparkchatter.com/wp-content/uploads/2025/04/kinkade-disneyland-dca-art.jpg
END:VEVENT
BEGIN:VEVENT
DTSTART;TZID=UTC:20250927T110000
DTEND;TZID=UTC:20250927T190000
DTSTAMP:20260422T235950
CREATED:20250423T034422Z
LAST-MODIFIED:20250514T135743Z
UID:10000068-1758970800-1758999600@themeparkchatter.com
SUMMARY:Disneyland: Thomas Kinkade Studios - Artist Showcase
DESCRIPTION:While there isn’t a specific “Artist Showcase and Signing – Thomas Kinkade” event listed under that exact name at Disneyland for the remainder of 2025\, Thomas Kinkade Studios artists do make regular appearances for showcases and signings of their Disney-inspired artwork. \n\n\n\n\n\nDates and Times \n\n\n\nMay 15-18\, 2025: Daily from 11:00 AM to 7:00 PM. \n\n\n\nJuly 17-20\, 2025: Daily from 11:00 AM to 7:00 PM. \n\n\n\nSeptember 25-28\, 2025: Daily from 11:00 AM to 7:00 PM. \n\n\n\nShowcasing the Legacy: Thomas Kinkade\, known as the “Painter of Light\,” passed away in 2012\, but his studio continues his legacy of creating luminous and narrative Disney artwork. The showcases often feature a range of limited edition canvases and prints that capture iconic Disney movie moments and characters in Kinkade’s signature style. These pieces often tell the entire story of a Disney film within a single image\, taking inspiration from Disney archival materials. \n\n\n\nMeet the Artists: Instead of Thomas Kinkade himself\, you’ll have the opportunity to meet and interact with the talented artists who continue his vision at Thomas Kinkade Studios. These artists can share insights into the creation process and the techniques used to bring these magical scenes to life. \n\n\n\nArt Signing: A highlight of these events is the chance to have your newly purchased Thomas Kinkade Studios Disney artwork signed by the visiting artist. This personal touch adds extra value and makes your piece even more special. Disneyland merchandise event guidelines typically state that only items purchased on the event day at the event location can be signed\, with a limit of two signed items per guest. \n\n\n\nExclusive Artwork and Sketches: Sometimes\, these showcases feature the release of new or exclusive Disney artwork from Thomas Kinkade Studios. In some instances\, the artists may even create special sketches on the back of purchased pieces\, offering a unique memento. \n\n\n\nLocation: For 2025\, the Thomas Kinkade Studios artist showcases and signings are scheduled to take place at Disneyana on Main Street\, U.S.A.\, in Disneyland Park.
URL:https://themeparkchatter.com/event/disneyland-thomas-kinkade-studios-artist-showcase/2025-09-27/
LOCATION:Disneyland Resort\, 1313 Disneyland Dr\, Anaheim\, CA\, 92802\, United States
CATEGORIES:California
ATTACH;FMTTYPE=image/jpeg:https://themeparkchatter.com/wp-content/uploads/2025/04/kinkade-disneyland-dca-art.jpg
END:VEVENT
BEGIN:VEVENT
DTSTART;TZID=UTC:20250928T110000
DTEND;TZID=UTC:20250928T190000
DTSTAMP:20260422T235950
CREATED:20250423T034422Z
LAST-MODIFIED:20250514T135743Z
UID:10000069-1759057200-1759086000@themeparkchatter.com
SUMMARY:Disneyland: Thomas Kinkade Studios - Artist Showcase
DESCRIPTION:While there isn’t a specific “Artist Showcase and Signing – Thomas Kinkade” event listed under that exact name at Disneyland for the remainder of 2025\, Thomas Kinkade Studios artists do make regular appearances for showcases and signings of their Disney-inspired artwork. \n\n\n\n\n\nDates and Times \n\n\n\nMay 15-18\, 2025: Daily from 11:00 AM to 7:00 PM. \n\n\n\nJuly 17-20\, 2025: Daily from 11:00 AM to 7:00 PM. \n\n\n\nSeptember 25-28\, 2025: Daily from 11:00 AM to 7:00 PM. \n\n\n\nShowcasing the Legacy: Thomas Kinkade\, known as the “Painter of Light\,” passed away in 2012\, but his studio continues his legacy of creating luminous and narrative Disney artwork. The showcases often feature a range of limited edition canvases and prints that capture iconic Disney movie moments and characters in Kinkade’s signature style. These pieces often tell the entire story of a Disney film within a single image\, taking inspiration from Disney archival materials. \n\n\n\nMeet the Artists: Instead of Thomas Kinkade himself\, you’ll have the opportunity to meet and interact with the talented artists who continue his vision at Thomas Kinkade Studios. These artists can share insights into the creation process and the techniques used to bring these magical scenes to life. \n\n\n\nArt Signing: A highlight of these events is the chance to have your newly purchased Thomas Kinkade Studios Disney artwork signed by the visiting artist. This personal touch adds extra value and makes your piece even more special. Disneyland merchandise event guidelines typically state that only items purchased on the event day at the event location can be signed\, with a limit of two signed items per guest. \n\n\n\nExclusive Artwork and Sketches: Sometimes\, these showcases feature the release of new or exclusive Disney artwork from Thomas Kinkade Studios. In some instances\, the artists may even create special sketches on the back of purchased pieces\, offering a unique memento. \n\n\n\nLocation: For 2025\, the Thomas Kinkade Studios artist showcases and signings are scheduled to take place at Disneyana on Main Street\, U.S.A.\, in Disneyland Park.
URL:https://themeparkchatter.com/event/disneyland-thomas-kinkade-studios-artist-showcase/2025-09-28/
LOCATION:Disneyland Resort\, 1313 Disneyland Dr\, Anaheim\, CA\, 92802\, United States
CATEGORIES:California
ATTACH;FMTTYPE=image/jpeg:https://themeparkchatter.com/wp-content/uploads/2025/04/kinkade-disneyland-dca-art.jpg
END:VEVENT
END:VCALENDAR